FILENAME: O4510828.NES.1007347.tif
QUADRANGLE_NAME: STRATFORD HILL
QUADRANT: NE
WEST_LONGITUDE: -108 33 45.00000
EAST_LONGITUDE: -108 30 0.00000
NORTH_LATITUDE: 45 37 30.00000
SOUTH_LATITUDE: 45 33 45.00000
PRODUCTION_DATE: 1999 4 2
RASTER_ORDER: LEFT_RIGHT/TOP_BOTTOM
BAND_ORGANIZATION: SINGLE FILE
BAND_CONTENT: BLACK&WHITE
BAND_CONTENT: UNDEFINED
BAND_CONTENT: UNDEFINED
BITS_PER_PIXEL: 8
SAMPLES_AND_LINES: 5745 7703
HORIZONTAL_DATUM: NAD83
HORIZONTAL_COORDINATE_SYSTEM: UTM
COORDINATE_ZONE: 12
HORIZONTAL_UNITS: METERS
HORIZONTAL_RESOLUTION: 1.00000
SECONDARY_HORIZONTAL_DATUM: NAD27
XY_ORIGIN: 689656.00000 5055724.00000
SECONDARY_XY_ORIGIN: 689715.36300 5055513.38500
NATION: US
NATION: "SCIENCE
STATE: MT
NW_QUAD_CORNER_XY: 690011.06400 5055273.62300
NE_QUAD_CORNER_XY: 694883.07900 5055423.76600
SE_QUAD_CORNERY_XY: 695099.65700 5048480.21300
SW_QUAD_CORNER_XY: 690222.22100 5048330.06400
SECONDARY_NW_QUAD_XY: 690016.75000 5055056.00600
SECONDARY_NE_QUAD_XY: 694888.91100 5055206.15300
SECONDARY_SE_QUAD_XY: 695105.48800 5048262.64700
SECONDARY_SW_QUAD_XY: 690227.90600 5048112.49300
RMSE_XY: 2.60000
IMAGE_SOURCE: BLACK AND WHITE FILM
SOURCE_IMAGE_ID: NAPP 9138 025
SOURCE_IMAGE_DATE: 1996 08 23
SOURCE_IMAGE_ID: NAPP 9138 024
SOURCE_IMAGE_DATE: 1996 08 23
SOURCE_IMAGE_ID: NAPP 9138 026
SOURCE_IMAGE_DATE: 1996 08 23
SOURCE_DEM_DATE: 1998 00 00
AGENCY: WESTERN MAPPING CENTER (WMC)
PRODUCER: UNDEFINED
PRODUCTION_SYSTEM: GIS/MAGIC
COMPRESSION: UNDEFINED
STANDARD_VERSION: 1996 12
METADATA_DATE: 1999 04 28
DATA_FILE_SIZE: 44259480
BYTE_COUNT: 5745
