FILENAME: O4510827.NWS.1007279.tif
QUADRANGLE_NAME: MOSSMAIN SW
QUADRANT: NW
WEST_LONGITUDE: -108 45 0.00000
EAST_LONGITUDE: -108 41 15.00000
NORTH_LATITUDE: 45 37 30.00000
SOUTH_LATITUDE: 45 33 45.00000
PRODUCTION_DATE: 1999 4 2
RASTER_ORDER: LEFT_RIGHT/TOP_BOTTOM
BAND_ORGANIZATION: SINGLE FILE
BAND_CONTENT: BLACK&WHITE
BAND_CONTENT: UNDEFINED
BAND_CONTENT: UNDEFINED
BITS_PER_PIXEL: 8
SAMPLES_AND_LINES: 5730 7692
HORIZONTAL_DATUM: NAD83
HORIZONTAL_COORDINATE_SYSTEM: UTM
COORDINATE_ZONE: 12
HORIZONTAL_UNITS: METERS
HORIZONTAL_RESOLUTION: 1.00000
SECONDARY_HORIZONTAL_DATUM: NAD27
XY_ORIGIN: 675039.00000 5055285.00000
SECONDARY_XY_ORIGIN: 675098.50300 5055074.49700
NATION: US
NATION: "SCIENCE
STATE: MT
NW_QUAD_CORNER_XY: 675394.99000 5054846.02700
NE_QUAD_CORNER_XY: 680267.01900 5054984.75400
SE_QUAD_CORNERY_XY: 680467.33600 5048041.18200
SW_QUAD_CORNER_XY: 675589.88800 5047902.44800
SECONDARY_NW_QUAD_XY: 675400.23900 5054628.39600
SECONDARY_NE_QUAD_XY: 680272.41400 5054767.12800
SECONDARY_SE_QUAD_XY: 680472.73000 5047823.60300
SECONDARY_SW_QUAD_XY: 675595.13500 5047684.86500
RMSE_XY: 2.30000
IMAGE_SOURCE: BLACK AND WHITE FILM
SOURCE_IMAGE_ID: NAPP 9140 101
SOURCE_IMAGE_DATE: 1996 08 23
SOURCE_IMAGE_ID: NAPP 9140 102
SOURCE_IMAGE_DATE: 1996 08 23
SOURCE_IMAGE_ID: NAPP 9140 100
SOURCE_IMAGE_DATE: 1996 08 23
SOURCE_IMAGE_ID: NAPP 9138 284
SOURCE_IMAGE_DATE: 1996 08 23
SOURCE_IMAGE_ID: NAPP 9138 286
SOURCE_IMAGE_DATE: 1996 08 23
SOURCE_DEM_DATE: 1998 00 00
AGENCY: WESTERN MAPPING CENTER (WMC)
PRODUCER: UNDEFINED
PRODUCTION_SYSTEM: GIS/MAGIC
COMPRESSION: UNDEFINED
STANDARD_VERSION: 1996 12
METADATA_DATE: 1999 04 28
DATA_FILE_SIZE: 44080890
BYTE_COUNT: 5730
