FILENAME: O4510826.SWS.1007257.tif
QUADRANGLE_NAME: SILESIA
QUADRANT: SW
WEST_LONGITUDE: -108 52 30.00000
EAST_LONGITUDE: -108 48 45.00000
NORTH_LATITUDE: 45 33 45.00000
SOUTH_LATITUDE: 45 30 0.00000
PRODUCTION_DATE: 1999 4 2
RASTER_ORDER: LEFT_RIGHT/TOP_BOTTOM
BAND_ORGANIZATION: SINGLE FILE
BAND_CONTENT: BLACK&WHITE
BAND_CONTENT: UNDEFINED
BAND_CONTENT: UNDEFINED
BITS_PER_PIXEL: 8
SAMPLES_AND_LINES: 5724 7685
HORIZONTAL_DATUM: NAD83
HORIZONTAL_COORDINATE_SYSTEM: UTM
COORDINATE_ZONE: 12
HORIZONTAL_UNITS: METERS
HORIZONTAL_RESOLUTION: 1.00000
SECONDARY_HORIZONTAL_DATUM: NAD27
XY_ORIGIN: 665479.00000 5048068.00000
SECONDARY_XY_ORIGIN: 665538.58200 5047857.68600
NATION: US
NATION: "SCIENCE
STATE: MT
NW_QUAD_CORNER_XY: 665834.97900 5047636.39600
NE_QUAD_CORNER_XY: 670712.43500 5047767.52000
SE_QUAD_CORNERY_XY: 670901.71000 5040824.00100
SW_QUAD_CORNER_XY: 666018.84100 5040692.87200
SECONDARY_NW_QUAD_XY: 665839.93500 5047418.80500
SECONDARY_NE_QUAD_XY: 670717.53700 5047549.93300
SECONDARY_SE_QUAD_XY: 670906.81000 5040606.46200
SECONDARY_SW_QUAD_XY: 666023.79500 5040475.32900
RMSE_XY: 2.50000
IMAGE_SOURCE: BLACK AND WHITE FILM
SOURCE_IMAGE_ID: NAPP 9147 018
SOURCE_IMAGE_DATE: 1996 08 24
SOURCE_IMAGE_ID: NAPP 9147 054
SOURCE_IMAGE_DATE: 1996 08 24
SOURCE_IMAGE_ID: NAPP 9147 019
SOURCE_IMAGE_DATE: 1996 08 24
SOURCE_IMAGE_ID: NAPP 9141 023
SOURCE_IMAGE_DATE: 1996 08 23
SOURCE_IMAGE_ID: NAPP 9141 024
SOURCE_IMAGE_DATE: 1996 08 23
SOURCE_DEM_DATE: 1998 00 00
AGENCY: WESTERN MAPPING CENTER (WMC)
PRODUCER: UNDEFINED
PRODUCTION_SYSTEM: GIS/MAGIC
COMPRESSION: UNDEFINED
STANDARD_VERSION: 1996 12
METADATA_DATE: 1999 04 28
DATA_FILE_SIZE: 43994664
BYTE_COUNT: 5724
