FILENAME: O4510824.NES.1007024.tif
QUADRANGLE_NAME: NORTH TELEGRAPH CREEK
QUADRANT: NE
WEST_LONGITUDE: -108 3 45.00000
EAST_LONGITUDE: -108 0 0.00000
NORTH_LATITUDE: 45 45 0.00000
SOUTH_LATITUDE: 45 41 15.00000
PRODUCTION_DATE: 1999 4 14
RASTER_ORDER: LEFT_RIGHT/TOP_BOTTOM
BAND_ORGANIZATION: SINGLE FILE
BAND_CONTENT: BLACK&WHITE
BAND_CONTENT: UNDEFINED
BAND_CONTENT: UNDEFINED
BITS_PER_PIXEL: 8
SAMPLES_AND_LINES: 5777 7734
HORIZONTAL_DATUM: NAD83
HORIZONTAL_COORDINATE_SYSTEM: UTM
COORDINATE_ZONE: 12
HORIZONTAL_UNITS: METERS
HORIZONTAL_RESOLUTION: 1.00000
SECONDARY_HORIZONTAL_DATUM: NAD27
XY_ORIGIN: 728123.00000 5070950.00000
SECONDARY_XY_ORIGIN: 728182.31900 5070738.96600
NATION: US
NATION: "SCIENCE
STATE: MT
NW_QUAD_CORNER_XY: 728477.13900 5070468.52300
NE_QUAD_CORNER_XY: 733338.24300 5070649.10400
SE_QUAD_CORNERY_XY: 733598.76700 5063705.49900
SW_QUAD_CORNER_XY: 728732.22600 5063524.90800
SECONDARY_NW_QUAD_XY: 728483.99500 5070250.85300
SECONDARY_NE_QUAD_XY: 733345.24500 5070431.43900
SECONDARY_SE_QUAD_XY: 733605.76800 5063487.88000
SECONDARY_SW_QUAD_XY: 728739.08100 5063307.28300
RMSE_XY: 1.80000
IMAGE_SOURCE: BLACK AND WHITE FILM
SOURCE_IMAGE_ID: NAPP 9142 045
SOURCE_IMAGE_DATE: 1996 08 24
SOURCE_IMAGE_ID: NAPP 9142 046
SOURCE_IMAGE_DATE: 1996 08 24
SOURCE_IMAGE_ID: NAPP 9142 047
SOURCE_IMAGE_DATE: 1996 08 24
SOURCE_DEM_DATE: 1998 00 00
AGENCY: WESTERN MAPPING CENTER (WMC)
PRODUCER: UNDEFINED
PRODUCTION_SYSTEM: GIS/MAGIC
COMPRESSION: UNDEFINED
STANDARD_VERSION: 1996 12
METADATA_DATE: 1999 04 28
DATA_FILE_SIZE: 44685095
BYTE_COUNT: 5777
