FILENAME: O4510823.SES.1006976.tif
QUADRANGLE_NAME: WOODY MOUNTAIN NW
QUADRANT: SE
WEST_LONGITUDE: -108 11 15.00000
EAST_LONGITUDE: -108 7 30.00000
NORTH_LATITUDE: 45 41 15.00000
SOUTH_LATITUDE: 45 37 30.00000
PRODUCTION_DATE: 1999 4 14
RASTER_ORDER: LEFT_RIGHT/TOP_BOTTOM
BAND_ORGANIZATION: SINGLE FILE
BAND_CONTENT: BLACK&WHITE
BAND_CONTENT: UNDEFINED
BAND_CONTENT: UNDEFINED
BITS_PER_PIXEL: 8
SAMPLES_AND_LINES: 5772 7727
HORIZONTAL_DATUM: NAD83
HORIZONTAL_COORDINATE_SYSTEM: UTM
COORDINATE_ZONE: 12
HORIZONTAL_UNITS: METERS
HORIZONTAL_RESOLUTION: 1.00000
SECONDARY_HORIZONTAL_DATUM: NAD27
XY_ORIGIN: 718645.00000 5063649.00000
SECONDARY_XY_ORIGIN: 718704.42300 5063438.17400
NATION: US
NATION: "SCIENCE
STATE: MT
NW_QUAD_CORNER_XY: 718999.12500 5063175.15100
NE_QUAD_CORNER_XY: 723865.67800 5063348.12600
SE_QUAD_CORNERY_XY: 724115.06100 5056404.55800
SW_QUAD_CORNER_XY: 719243.07800 5056231.57500
SECONDARY_NW_QUAD_XY: 719005.68800 5062957.51500
SECONDARY_NE_QUAD_XY: 723872.38800 5063130.49500
SECONDARY_SE_QUAD_XY: 724121.76900 5056186.97500
SECONDARY_SW_QUAD_XY: 719249.64000 5056013.98600
RMSE_XY: 2.10000
IMAGE_SOURCE: BLACK AND WHITE FILM
SOURCE_IMAGE_ID: NAPP 9142 259
SOURCE_IMAGE_DATE: 1996 08 24
SOURCE_IMAGE_ID: NAPP 9146 056
SOURCE_IMAGE_DATE: 1996 08 24
SOURCE_IMAGE_ID: NAPP 9143 025
SOURCE_IMAGE_DATE: 1996 08 24
SOURCE_IMAGE_ID: NAPP 9143 026
SOURCE_IMAGE_DATE: 1996 08 24
SOURCE_IMAGE_ID: NAPP 9143 028
SOURCE_IMAGE_DATE: 1996 08 24
SOURCE_DEM_DATE: 1998 00 00
AGENCY: WESTERN MAPPING CENTER (WMC)
PRODUCER: UNDEFINED
PRODUCTION_SYSTEM: GIS/MAGIC
COMPRESSION: UNDEFINED
STANDARD_VERSION: 1996 12
METADATA_DATE: 1999 04 28
DATA_FILE_SIZE: 44606016
BYTE_COUNT: 5772
