FILENAME: O4510819.SES.1007322.tif
QUADRANGLE_NAME: MOSSMAIN
QUADRANT: SE
WEST_LONGITUDE: -108 41 15.00000
EAST_LONGITUDE: -108 37 30.00000
NORTH_LATITUDE: 45 41 15.00000
SOUTH_LATITUDE: 45 37 30.00000
PRODUCTION_DATE: 1999 4 6
RASTER_ORDER: LEFT_RIGHT/TOP_BOTTOM
BAND_ORGANIZATION: SINGLE FILE
BAND_CONTENT: BLACK&WHITE
BAND_CONTENT: UNDEFINED
BAND_CONTENT: UNDEFINED
BITS_PER_PIXEL: 8
SAMPLES_AND_LINES: 5730 7696
HORIZONTAL_DATUM: NAD83
HORIZONTAL_COORDINATE_SYSTEM: UTM
COORDINATE_ZONE: 12
HORIZONTAL_UNITS: METERS
HORIZONTAL_RESOLUTION: 1.00000
SECONDARY_HORIZONTAL_DATUM: NAD27
XY_ORIGIN: 679711.00000 5062371.00000
SECONDARY_XY_ORIGIN: 679770.47600 5062160.41800
NATION: US
NATION: "SCIENCE
STATE: MT
NW_QUAD_CORNER_XY: 680066.48600 5061928.39000
NE_QUAD_CORNER_XY: 684933.08500 5062070.91600
SE_QUAD_CORNERY_XY: 685139.04400 5055127.28600
SW_QUAD_CORNER_XY: 680267.01900 5054984.75400
SECONDARY_NW_QUAD_XY: 680071.88200 5061710.71700
SECONDARY_NE_QUAD_XY: 684938.62700 5061853.24700
SECONDARY_SE_QUAD_XY: 685144.58400 5054909.66400
SECONDARY_SW_QUAD_XY: 680272.41400 5054767.12800
RMSE_XY: 2.00000
IMAGE_SOURCE: BLACK AND WHITE FILM
SOURCE_IMAGE_ID: NAPP 9138 287
SOURCE_IMAGE_DATE: 1996 08 23
SOURCE_IMAGE_ID: NAPP 9140 099
SOURCE_IMAGE_DATE: 1996 08 23
SOURCE_IMAGE_ID: NAPP 9138 288
SOURCE_IMAGE_DATE: 1996 08 23
SOURCE_IMAGE_ID: NAPP 9138 289
SOURCE_IMAGE_DATE: 1996 08 23
SOURCE_IMAGE_ID: NAPP 9138 244
SOURCE_IMAGE_DATE: 1996 08 23
SOURCE_DEM_DATE: 1981 08 00
AGENCY: WESTERN MAPPING CENTER (WMC)
PRODUCER: UNDEFINED
PRODUCTION_SYSTEM: GIS/MAGIC
COMPRESSION: UNDEFINED
STANDARD_VERSION: 1996 12
METADATA_DATE: 1999 04 28
DATA_FILE_SIZE: 44103810
BYTE_COUNT: 5730
