FILENAME: O4510816.NES.1007040.tif
QUADRANGLE_NAME: GAILS COULEE
QUADRANT: NE
WEST_LONGITUDE: -108 3 45.00000
EAST_LONGITUDE: -108 0 0.00000
NORTH_LATITUDE: 45 52 30.00000
SOUTH_LATITUDE: 45 48 45.00000
PRODUCTION_DATE: 1999 4 15
RASTER_ORDER: LEFT_RIGHT/TOP_BOTTOM
BAND_ORGANIZATION: SINGLE FILE
BAND_CONTENT: BLACK&WHITE
BAND_CONTENT: UNDEFINED
BAND_CONTENT: UNDEFINED
BITS_PER_PIXEL: 8
SAMPLES_AND_LINES: 5766 7734
HORIZONTAL_DATUM: NAD83
HORIZONTAL_COORDINATE_SYSTEM: UTM
COORDINATE_ZONE: 12
HORIZONTAL_UNITS: METERS
HORIZONTAL_RESOLUTION: 1.00000
SECONDARY_HORIZONTAL_DATUM: NAD27
XY_ORIGIN: 727613.00000 5084837.00000
SECONDARY_XY_ORIGIN: 727671.90900 5084625.32800
NATION: US
NATION: "SCIENCE
STATE: MT
NW_QUAD_CORNER_XY: 727966.14500 5084355.92200
NE_QUAD_CORNER_XY: 732816.35700 5084536.48100
SE_QUAD_CORNERY_XY: 733077.43900 5077592.76500
SW_QUAD_CORNER_XY: 728221.77800 5077412.19400
SECONDARY_NW_QUAD_XY: 727973.00500 5084138.16200
SECONDARY_NE_QUAD_XY: 732823.36300 5084318.72700
SECONDARY_SE_QUAD_XY: 733084.44400 5077375.05500
SECONDARY_SW_QUAD_XY: 728228.63600 5077194.47900
RMSE_XY: 2.00000
IMAGE_SOURCE: BLACK AND WHITE FILM
SOURCE_IMAGE_ID: NAPP 9142 049
SOURCE_IMAGE_DATE: 1996 08 24
SOURCE_IMAGE_ID: NAPP 9142 253
SOURCE_IMAGE_DATE: 1996 08 24
SOURCE_DEM_DATE: 1997 01 01
AGENCY: WESTERN MAPPING CENTER (WMC)
PRODUCER: UNDEFINED
PRODUCTION_SYSTEM: GIS/MAGIC
COMPRESSION: UNDEFINED
STANDARD_VERSION: 1996 12
METADATA_DATE: 1999 04 28
DATA_FILE_SIZE: 44600010
BYTE_COUNT: 5766
