FILENAME: O4510806.NES.1006929.tif
QUADRANGLE_NAME: HUNTLEY
QUADRANT: NE
WEST_LONGITUDE: -108 18 45.00000
EAST_LONGITUDE: -108 15 0.00000
NORTH_LATITUDE: 46 0 0.00000
SOUTH_LATITUDE: 45 56 15.00000
PRODUCTION_DATE: 1999 4 12
RASTER_ORDER: LEFT_RIGHT/TOP_BOTTOM
BAND_ORGANIZATION: SINGLE FILE
BAND_CONTENT: BLACK&WHITE
BAND_CONTENT: UNDEFINED
BAND_CONTENT: UNDEFINED
BITS_PER_PIXEL: 8
SAMPLES_AND_LINES: 5734 7718
HORIZONTAL_DATUM: NAD83
HORIZONTAL_COORDINATE_SYSTEM: UTM
COORDINATE_ZONE: 12
HORIZONTAL_UNITS: METERS
HORIZONTAL_RESOLUTION: 1.00000
SECONDARY_HORIZONTAL_DATUM: NAD27
XY_ORIGIN: 707743.00000 5098025.00000
SECONDARY_XY_ORIGIN: 707801.99200 5097813.50600
NATION: US
NATION: "SCIENCE
STATE: MT
NW_QUAD_CORNER_XY: 708096.77400 5097559.47700
NE_QUAD_CORNER_XY: 712936.10900 5097724.78500
SE_QUAD_CORNERY_XY: 713175.91100 5090780.90700
SW_QUAD_CORNER_XY: 708331.11800 5090615.58700
SECONDARY_NW_QUAD_XY: 708103.05300 5097341.61100
SECONDARY_NE_QUAD_XY: 712942.53400 5097506.92500
SECONDARY_SE_QUAD_XY: 713182.33400 5090563.08900
SECONDARY_SW_QUAD_XY: 708337.39500 5090397.76400
RMSE_XY: 2.20000
IMAGE_SOURCE: BLACK AND WHITE FILM
SOURCE_IMAGE_ID: NAPP 9134 034
SOURCE_IMAGE_DATE: 1996 08 10
SOURCE_IMAGE_ID: NAPP 9134 033
SOURCE_IMAGE_DATE: 1996 08 10
SOURCE_IMAGE_ID: NAPP 9146 045
SOURCE_IMAGE_DATE: 1996 08 24
SOURCE_DEM_DATE: 1997 01 01
AGENCY: WESTERN MAPPING CENTER (WMC)
PRODUCER: UNDEFINED
PRODUCTION_SYSTEM: GIS/MAGIC
COMPRESSION: UNDEFINED
STANDARD_VERSION: 1996 12
METADATA_DATE: 1999 04 28
DATA_FILE_SIZE: 44260746
BYTE_COUNT: 5734
