FILENAME: O4510805.NES.1007383.tif
QUADRANGLE_NAME: RATTLESNAKE BUTTE
QUADRANT: NE
WEST_LONGITUDE: -108 26 15.00000
EAST_LONGITUDE: -108 22 30.00000
NORTH_LATITUDE: 46 0 0.00000
SOUTH_LATITUDE: 45 56 15.00000
PRODUCTION_DATE: 1999 4 12
RASTER_ORDER: LEFT_RIGHT/TOP_BOTTOM
BAND_ORGANIZATION: SINGLE FILE
BAND_CONTENT: BLACK&WHITE
BAND_CONTENT: UNDEFINED
BAND_CONTENT: UNDEFINED
BITS_PER_PIXEL: 8
SAMPLES_AND_LINES: 5725 7711
HORIZONTAL_DATUM: NAD83
HORIZONTAL_COORDINATE_SYSTEM: UTM
COORDINATE_ZONE: 12
HORIZONTAL_UNITS: METERS
HORIZONTAL_RESOLUTION: 1.00000
SECONDARY_HORIZONTAL_DATUM: NAD27
XY_ORIGIN: 698063.00000 5097698.00000
SECONDARY_XY_ORIGIN: 698122.14200 5097486.67500
NATION: US
NATION: "SCIENCE
STATE: MT
NW_QUAD_CORNER_XY: 698418.07900 5097240.27700
NE_QUAD_CORNER_XY: 703257.43100 5097397.97400
SE_QUAD_CORNERY_XY: 703486.31700 5090454.07300
SW_QUAD_CORNER_XY: 698641.50900 5090296.36400
SECONDARY_NW_QUAD_XY: 698424.06500 5097022.40200
SECONDARY_NE_QUAD_XY: 703263.56300 5097180.10400
SECONDARY_SE_QUAD_XY: 703492.44900 5090236.24500
SECONDARY_SW_QUAD_XY: 698647.49400 5090078.53100
RMSE_XY: 1.90000
IMAGE_SOURCE: BLACK AND WHITE FILM
SOURCE_IMAGE_ID: NAPP 9137 143
SOURCE_IMAGE_DATE: 1996 08 23
SOURCE_DEM_DATE: 1997 01 01
AGENCY: WESTERN MAPPING CENTER (WMC)
PRODUCER: UNDEFINED
PRODUCTION_SYSTEM: GIS/MAGIC
COMPRESSION: UNDEFINED
STANDARD_VERSION: 1996 12
METADATA_DATE: 1999 04 28
DATA_FILE_SIZE: 44151200
BYTE_COUNT: 5725
