FILENAME: O4510801.SES.1007224.tif
QUADRANGLE_NAME: ROCK SPRING
QUADRANT: SE
WEST_LONGITUDE: -108 56 15.00000
EAST_LONGITUDE: -108 52 30.00000
NORTH_LATITUDE: 45 56 15.00000
SOUTH_LATITUDE: 45 52 30.00000
PRODUCTION_DATE: 1999 4 9
RASTER_ORDER: LEFT_RIGHT/TOP_BOTTOM
BAND_ORGANIZATION: SINGLE FILE
BAND_CONTENT: BLACK&WHITE
BAND_CONTENT: UNDEFINED
BAND_CONTENT: UNDEFINED
BITS_PER_PIXEL: 8
SAMPLES_AND_LINES: 5688 7681
HORIZONTAL_DATUM: NAD83
HORIZONTAL_COORDINATE_SYSTEM: UTM
COORDINATE_ZONE: 12
HORIZONTAL_UNITS: METERS
HORIZONTAL_RESOLUTION: 1.00000
SECONDARY_HORIZONTAL_DATUM: NAD27
XY_ORIGIN: 659526.00000 5089599.00000
SECONDARY_XY_ORIGIN: 659585.70800 5089388.23300
NATION: US
NATION: "SCIENCE
STATE: MT
NW_QUAD_CORNER_XY: 659882.78400 5089171.64400
NE_QUAD_CORNER_XY: 664727.64800 5089298.92200
SE_QUAD_CORNERY_XY: 664912.69800 5082355.00300
SW_QUAD_CORNER_XY: 660062.38700 5082227.71600
SECONDARY_NW_QUAD_XY: 659887.60100 5088953.77700
SECONDARY_NE_QUAD_XY: 664732.61100 5089081.05900
SECONDARY_SE_QUAD_XY: 664917.66000 5082137.18300
SECONDARY_SW_QUAD_XY: 660067.20300 5082009.89300
RMSE_XY: 2.70000
IMAGE_SOURCE: BLACK AND WHITE FILM
SOURCE_IMAGE_ID: NAPP 9147 065
SOURCE_IMAGE_DATE: 1996 08 24
SOURCE_IMAGE_ID: NAPP 9147 067
SOURCE_IMAGE_DATE: 1996 08 24
SOURCE_DEM_DATE: 1997 01 01
AGENCY: WESTERN MAPPING CENTER (WMC)
PRODUCER: UNDEFINED
PRODUCTION_SYSTEM: GIS/MAGIC
COMPRESSION: UNDEFINED
STANDARD_VERSION: 1996 12
METADATA_DATE: 1999 04 28
DATA_FILE_SIZE: 43695216
BYTE_COUNT: 5688
