FILENAME: O4510960.NWS.1118744.tif
QUADRANGLE_NAME: SILVER RUN PEAK
QUADRANT: NW
WEST_LONGITUDE: -109 37 30.00000
EAST_LONGITUDE: -109 33 45.00000
NORTH_LATITUDE: 45 7 30.00000
SOUTH_LATITUDE: 45 3 45.00000
PRODUCTION_DATE: 2000 12 05
RASTER_ORDER: LEFT_RIGHT/TOP_BOTTOM
BAND_ORGANIZATION: SINGLE FILE
BAND_CONTENT: BLACK&WHITE
BAND_CONTENT: UNDEFINED
BAND_CONTENT: UNDEFINED
BITS_PER_PIXEL: 8
SAMPLES_AND_LINES: 5730 7650
HORIZONTAL_DATUM: NAD83
HORIZONTAL_COORDINATE_SYSTEM: UTM
COORDINATE_ZONE: 12
HORIZONTAL_UNITS: METERS
HORIZONTAL_RESOLUTION: 1.00000
SECONDARY_HORIZONTAL_DATUM: NAD27
XY_ORIGIN: 607770.00000 4998150.00000
SECONDARY_XY_ORIGIN: 607830.12900 4997939.96500
NATION: US
STATE: MT
NW_QUAD_CORNER_XY: 608135.10900 4997756.04700
NE_QUAD_CORNER_XY: 613050.33900 4997841.55400
SE_QUAD_CORNERY_XY: 613173.74100 4990898.48600
SW_QUAD_CORNER_XY: 608253.14400 4990812.97900
SECONDARY_NW_QUAD_XY: 608138.31000 4997538.77400
SECONDARY_NE_QUAD_XY: 613053.68500 4997624.28400
SECONDARY_SE_QUAD_XY: 613177.08600 4990681.27000
SECONDARY_SW_QUAD_XY: 608256.34400 4990595.76000
RMSE_XY: 1.91000
IMAGE_SOURCE: BLACK AND WHITE FILM
SOURCE_IMAGE_ID: NAPP 11012 143
SOURCE_IMAGE_DATE: 1998 08 25
SOURCE_IMAGE_ID: NAPP 11012 136
SOURCE_IMAGE_DATE: 1998 08 25
SOURCE_IMAGE_ID: NAPP 11012 142
SOURCE_IMAGE_DATE: 1998 08 25
SOURCE_IMAGE_ID: NAPP 11012 145
SOURCE_IMAGE_DATE: 1998 08 25
SOURCE_DEM_DATE: 2000 01 01
AGENCY: WESTERN MAPPING CENTER (WMC)
PRODUCER: ANALYTICAL SURVEYS INC.
PRODUCTION_SYSTEM: ORBIT OR_RECTIFY V.5.2
COMPRESSION: UNDEFINED
STANDARD_VERSION: 1996 12
METADATA_DATE: 2000 12 14
DATA_FILE_SIZE: 43840230
BYTE_COUNT: 5730
