FILENAME: O4510960.SWS.1118746.tif
QUADRANGLE_NAME: SILVER RUN PEAK
QUADRANT: SW
WEST_LONGITUDE: -109 37 30.00000
EAST_LONGITUDE: -109 33 45.00000
NORTH_LATITUDE: 45 3 45.00000
SOUTH_LATITUDE: 45 0 0.00000
PRODUCTION_DATE: 2000 12 05
RASTER_ORDER: LEFT_RIGHT/TOP_BOTTOM
BAND_ORGANIZATION: SINGLE FILE
BAND_CONTENT: BLACK&WHITE
BAND_CONTENT: UNDEFINED
BAND_CONTENT: UNDEFINED
BITS_PER_PIXEL: 8
SAMPLES_AND_LINES: 5730 7680
HORIZONTAL_DATUM: NAD83
HORIZONTAL_COORDINATE_SYSTEM: UTM
COORDINATE_ZONE: 12
HORIZONTAL_UNITS: METERS
HORIZONTAL_RESOLUTION: 1.00000
SECONDARY_HORIZONTAL_DATUM: NAD27
XY_ORIGIN: 607890.00000 4991220.00000
SECONDARY_XY_ORIGIN: 607950.19100 4991010.00000
NATION: US
STATE: MT
STATE: WY
NW_QUAD_CORNER_XY: 608253.14400 4990812.97900
NE_QUAD_CORNER_XY: 613173.74100 4990898.48600
SE_QUAD_CORNERY_XY: 613297.00700 4983955.48900
SW_QUAD_CORNER_XY: 608371.04900 4983869.98200
SECONDARY_NW_QUAD_XY: 608256.34400 4990595.76000
SECONDARY_NE_QUAD_XY: 613177.08600 4990681.27000
SECONDARY_SE_QUAD_XY: 613300.35100 4983738.32800
SECONDARY_SW_QUAD_XY: 608374.24800 4983652.81800
RMSE_XY: 1.93000
IMAGE_SOURCE: BLACK AND WHITE FILM
SOURCE_IMAGE_ID: NAPP 11012 141
SOURCE_IMAGE_DATE: 1998 08 25
SOURCE_IMAGE_ID: NAPP 11012 138
SOURCE_IMAGE_DATE: 1998 08 25
SOURCE_IMAGE_ID: NAPP 11012 142
SOURCE_IMAGE_DATE: 1998 08 25
SOURCE_IMAGE_ID: NAPP 11012 143
SOURCE_IMAGE_DATE: 1998 08 25
SOURCE_DEM_DATE: 2000 01 01
AGENCY: WESTERN MAPPING CENTER (WMC)
PRODUCER: ANALYTICAL SURVEYS INC.
PRODUCTION_SYSTEM: ORBIT OR_RECTIFY V.5.2
COMPRESSION: UNDEFINED
STANDARD_VERSION: 1996 12
METADATA_DATE: 2000 12 14
DATA_FILE_SIZE: 44012130
BYTE_COUNT: 5730
