FILENAME: O4510959.SES.831432.tif
QUADRANGLE_NAME: CASTLE MOUNTAIN
QUADRANT: SE
WEST_LONGITUDE: -109 41 15.00000
EAST_LONGITUDE: -109 37 30.00000
NORTH_LATITUDE: 45 3 45.00000
SOUTH_LATITUDE: 45 0 0.00000
PRODUCTION_DATE: 1998 1 14
RASTER_ORDER: LEFT_RIGHT/TOP_BOTTOM
BAND_ORGANIZATION: SINGLE FILE
BAND_CONTENT: BLACK&WHITE
BAND_CONTENT: UNDEFINED
BAND_CONTENT: UNDEFINED
BITS_PER_PIXEL: 8
SAMPLES_AND_LINES: 5699 7634
HORIZONTAL_DATUM: NAD83
HORIZONTAL_COORDINATE_SYSTEM: UTM
COORDINATE_ZONE: 12
HORIZONTAL_UNITS: METERS
HORIZONTAL_RESOLUTION: 1.00000
SECONDARY_HORIZONTAL_DATUM: NAD27
XY_ORIGIN: 602974.00000 4991113.00000
SECONDARY_XY_ORIGIN: 603034.26200 4990902.99800
NATION: US
NATION: "SCIENCE
STATE: MT
STATE: WY
NW_QUAD_CORNER_XY: 603332.54700 4990731.27300
NE_QUAD_CORNER_XY: 608253.14400 4990812.97800
SE_QUAD_CORNERY_XY: 608371.04900 4983869.98200
SW_QUAD_CORNER_XY: 603445.09100 4983788.27600
SECONDARY_NW_QUAD_XY: 603335.60100 4990514.05100
SECONDARY_NE_QUAD_XY: 608256.34400 4990595.76000
SECONDARY_SE_QUAD_XY: 608374.24800 4983652.81800
SECONDARY_SW_QUAD_XY: 603448.14400 4983571.11000
RMSE_XY: 3.80000
IMAGE_SOURCE: BLACK AND WHITE FILM
SOURCE_IMAGE_ID: NAPP 7829 057
SOURCE_IMAGE_DATE: 1994 09 05
SOURCE_IMAGE_ID: NAPP 7825 145
SOURCE_IMAGE_DATE: 1994 08 25
SOURCE_IMAGE_ID: NAPP 7829 058
SOURCE_IMAGE_DATE: 1994 09 05
SOURCE_IMAGE_ID: NAPP 7821 009
SOURCE_IMAGE_DATE: 1994 08 23
SOURCE_DEM_DATE: 1997 01 01
AGENCY: WESTERN MAPPING CENTER (WMC)
PRODUCER: UNDEFINED
PRODUCTION_SYSTEM: GIS/MAGIC
COMPRESSION: UNDEFINED
STANDARD_VERSION: 1996 12
METADATA_DATE: 1998 01 15
DATA_FILE_SIZE: 43511865
BYTE_COUNT: 5699
