FILENAME: O4510959.SWS.831433.tif
QUADRANGLE_NAME: CASTLE MOUNTAIN
QUADRANT: SW
WEST_LONGITUDE: -109 45 0.00000
EAST_LONGITUDE: -109 41 15.00000
NORTH_LATITUDE: 45 3 45.00000
SOUTH_LATITUDE: 45 0 0.00000
PRODUCTION_DATE: 1998 1 14
RASTER_ORDER: LEFT_RIGHT/TOP_BOTTOM
BAND_ORGANIZATION: SINGLE FILE
BAND_CONTENT: BLACK&WHITE
BAND_CONTENT: UNDEFINED
BAND_CONTENT: UNDEFINED
BITS_PER_PIXEL: 8
SAMPLES_AND_LINES: 5694 7631
HORIZONTAL_DATUM: NAD83
HORIZONTAL_COORDINATE_SYSTEM: UTM
COORDINATE_ZONE: 12
HORIZONTAL_UNITS: METERS
HORIZONTAL_RESOLUTION: 1.00000
SECONDARY_HORIZONTAL_DATUM: NAD27
XY_ORIGIN: 598053.00000 4991032.00000
SECONDARY_XY_ORIGIN: 598113.33200 4990821.99700
NATION: US
NATION: "SCIENCE
STATE: MT
STATE: WY
NW_QUAD_CORNER_XY: 598411.95000 4990653.36900
NE_QUAD_CORNER_XY: 603332.54700 4990731.27300
SE_QUAD_CORNERY_XY: 603445.09100 4983788.27600
SW_QUAD_CORNER_XY: 598519.13300 4983710.37200
SECONDARY_NW_QUAD_XY: 598414.85900 4990436.14500
SECONDARY_NE_QUAD_XY: 603335.60100 4990514.05100
SECONDARY_SE_QUAD_XY: 603448.14400 4983571.11000
SECONDARY_SW_QUAD_XY: 598522.04100 4983493.20400
RMSE_XY: 2.90000
IMAGE_SOURCE: BLACK AND WHITE FILM
SOURCE_IMAGE_ID: NAPP 7825 145
SOURCE_IMAGE_DATE: 1994 08 25
SOURCE_IMAGE_ID: NAPP 7825 143
SOURCE_IMAGE_DATE: 1994 08 25
SOURCE_IMAGE_ID: NAPP 7825 144
SOURCE_IMAGE_DATE: 1994 08 25
SOURCE_IMAGE_ID: NAPP 7829 057
SOURCE_IMAGE_DATE: 1994 09 05
SOURCE_DEM_DATE: 1997 01 01
AGENCY: WESTERN MAPPING CENTER (WMC)
PRODUCER: UNDEFINED
PRODUCTION_SYSTEM: GIS/MAGIC
COMPRESSION: UNDEFINED
STANDARD_VERSION: 1996 12
METADATA_DATE: 1998 01 15
DATA_FILE_SIZE: 43456608
BYTE_COUNT: 5694
