FILENAME: O4510958.SWS.831409.tif
QUADRANGLE_NAME: FOSSIL LAKE
QUADRANT: SW
WEST_LONGITUDE: -109 52 30.00000
EAST_LONGITUDE: -109 48 45.00000
NORTH_LATITUDE: 45 3 45.00000
SOUTH_LATITUDE: 45 0 0.00000
PRODUCTION_DATE: 1998 1 14
RASTER_ORDER: LEFT_RIGHT/TOP_BOTTOM
BAND_ORGANIZATION: SINGLE FILE
BAND_CONTENT: BLACK&WHITE
BAND_CONTENT: UNDEFINED
BAND_CONTENT: UNDEFINED
BITS_PER_PIXEL: 8
SAMPLES_AND_LINES: 5684 7624
HORIZONTAL_DATUM: NAD83
HORIZONTAL_COORDINATE_SYSTEM: UTM
COORDINATE_ZONE: 12
HORIZONTAL_UNITS: METERS
HORIZONTAL_RESOLUTION: 1.00000
SECONDARY_HORIZONTAL_DATUM: NAD27
XY_ORIGIN: 588211.00000 4990880.00000
SECONDARY_XY_ORIGIN: 588271.41400 4990670.10800
NATION: US
NATION: "SCIENCE
STATE: MT
STATE: WY
NW_QUAD_CORNER_XY: 588570.75600 4990508.96500
NE_QUAD_CORNER_XY: 593491.35300 4990579.26600
SE_QUAD_CORNERY_XY: 593593.17500 4983636.26900
SW_QUAD_CORNER_XY: 588667.21800 4983565.96800
SECONDARY_NW_QUAD_XY: 588573.37400 4990291.73700
SECONDARY_NE_QUAD_XY: 593494.11600 4990362.04000
SECONDARY_SE_QUAD_XY: 593595.93800 4983419.09900
SECONDARY_SW_QUAD_XY: 588669.83500 4983348.79500
RMSE_XY: 4.80000
IMAGE_SOURCE: BLACK AND WHITE FILM
SOURCE_IMAGE_ID: NAPP 7825 057
SOURCE_IMAGE_DATE: 1994 08 25
SOURCE_IMAGE_ID: NAPP 7825 058
SOURCE_IMAGE_DATE: 1994 08 25
SOURCE_IMAGE_ID: NAPP 7825 056
SOURCE_IMAGE_DATE: 1994 08 25
SOURCE_IMAGE_ID: NAPP 7825 055
SOURCE_IMAGE_DATE: 1994 08 25
SOURCE_IMAGE_ID: NAPP 7825 152
SOURCE_IMAGE_DATE: 1994 08 25
SOURCE_DEM_DATE: 1997 01 01
AGENCY: WESTERN MAPPING CENTER (WMC)
PRODUCER: UNDEFINED
PRODUCTION_SYSTEM: GIS/MAGIC
COMPRESSION: UNDEFINED
STANDARD_VERSION: 1996 12
METADATA_DATE: 1998 01 15
DATA_FILE_SIZE: 43340500
BYTE_COUNT: 5684
