FILENAME: O4510957.NWS.831395.tif
QUADRANGLE_NAME: COOKE CITY
QUADRANT: NW
WEST_LONGITUDE: -110 0 0.00000
EAST_LONGITUDE: -109 56 15.00000
NORTH_LATITUDE: 45 7 30.00000
SOUTH_LATITUDE: 45 3 45.00000
PRODUCTION_DATE: 1998 1 14
RASTER_ORDER: LEFT_RIGHT/TOP_BOTTOM
BAND_ORGANIZATION: SINGLE FILE
BAND_CONTENT: BLACK&WHITE
BAND_CONTENT: UNDEFINED
BAND_CONTENT: UNDEFINED
BITS_PER_PIXEL: 8
SAMPLES_AND_LINES: 5668 7616
HORIZONTAL_DATUM: NAD83
HORIZONTAL_COORDINATE_SYSTEM: UTM
COORDINATE_ZONE: 12
HORIZONTAL_UNITS: METERS
HORIZONTAL_RESOLUTION: 1.00000
SECONDARY_HORIZONTAL_DATUM: NAD27
XY_ORIGIN: 578284.00000 4997686.00000
SECONDARY_XY_ORIGIN: 578344.41800 4997476.16300
NATION: US
NATION: "SCIENCE
STATE: MT
NW_QUAD_CORNER_XY: 578643.72600 4997322.83500
NE_QUAD_CORNER_XY: 583558.95700 4997385.53400
SE_QUAD_CORNERY_XY: 583650.15900 4990442.46400
SW_QUAD_CORNER_XY: 578729.56200 4990379.76500
SECONDARY_NW_QUAD_XY: 578646.05300 4997105.54900
SECONDARY_NE_QUAD_XY: 583561.43000 4997168.25000
SECONDARY_SE_QUAD_XY: 583652.63100 4990225.23400
SECONDARY_SW_QUAD_XY: 578731.88800 4990162.53300
RMSE_XY: 2.80000
IMAGE_SOURCE: BLACK AND WHITE FILM
SOURCE_IMAGE_ID: NAPP 7829 102
SOURCE_IMAGE_DATE: 1994 09 05
SOURCE_IMAGE_ID: NAPP 7829 101
SOURCE_IMAGE_DATE: 1994 09 05
SOURCE_IMAGE_ID: NAPP 7829 103
SOURCE_IMAGE_DATE: 1994 09 05
SOURCE_IMAGE_ID: NAPP 7825 053
SOURCE_IMAGE_DATE: 1994 08 25
SOURCE_DEM_DATE: 1997 01 01
AGENCY: WESTERN MAPPING CENTER (WMC)
PRODUCER: UNDEFINED
PRODUCTION_SYSTEM: GIS/MAGIC
COMPRESSION: UNDEFINED
STANDARD_VERSION: 1996 12
METADATA_DATE: 1998 01 15
DATA_FILE_SIZE: 43173156
BYTE_COUNT: 5668
