FILENAME: O4510956.NES.1121495.tif
QUADRANGLE_NAME: BELFRY
QUADRANT: NE
WEST_LONGITUDE: -109 3 45.00000
EAST_LONGITUDE: -109 0 0.00000
NORTH_LATITUDE: 45 15 0.00000
SOUTH_LATITUDE: 45 11 15.00000
PRODUCTION_DATE: 2000 12 18
RASTER_ORDER: LEFT_RIGHT/TOP_BOTTOM
BAND_ORGANIZATION: SINGLE FILE
BAND_CONTENT: BLACK&WHITE
BAND_CONTENT: UNDEFINED
BAND_CONTENT: UNDEFINED
BITS_PER_PIXEL: 8
SAMPLES_AND_LINES: 5760 7680
HORIZONTAL_DATUM: NAD83
HORIZONTAL_COORDINATE_SYSTEM: UTM
COORDINATE_ZONE: 12
HORIZONTAL_UNITS: METERS
HORIZONTAL_RESOLUTION: 1.00000
SECONDARY_HORIZONTAL_DATUM: NAD27
XY_ORIGIN: 651660.00000 5012970.00000
SECONDARY_XY_ORIGIN: 651719.60600 5012759.96800
NATION: US
STATE: MT
NW_QUAD_CORNER_XY: 652038.90400 5012548.83200
NE_QUAD_CORNER_XY: 656943.37000 5012668.56200
SE_QUAD_CORNERY_XY: 657115.47000 5005725.36400
SW_QUAD_CORNER_XY: 652205.62100 5005605.63200
SECONDARY_NW_QUAD_XY: 652043.41600 5012331.48000
SECONDARY_NE_QUAD_XY: 656948.02800 5012451.21300
SECONDARY_SE_QUAD_XY: 657120.12700 5005508.06800
SECONDARY_SW_QUAD_XY: 652210.13300 5005388.33200
RMSE_XY: 2.82000
IMAGE_SOURCE: BLACK AND WHITE FILM
SOURCE_IMAGE_ID: NAPP 9129 116
SOURCE_IMAGE_DATE: 1996 07 27
SOURCE_IMAGE_ID: NAPP 9129 114
SOURCE_IMAGE_DATE: 1996 07 27
SOURCE_DEM_DATE: 1969 00 00
AGENCY: WESTERN MAPPING CENTER (WMC)
PRODUCER: ANALYTICAL SURVEYS INC.
PRODUCTION_SYSTEM: ORBIT OR_RECTIFY V.5.2
COMPRESSION: UNDEFINED
STANDARD_VERSION: 1996 12
METADATA_DATE: 2000 12 20
DATA_FILE_SIZE: 44242560
BYTE_COUNT: 5760
