FILENAME: e:\updates\vol010_q1_2001\tiles\O4510953.NES.tif
QUADRANGLE_NAME: BARE MOUNTAIN
QUADRANT: NE
WEST_LONGITUDE: -109 26 15.00000
EAST_LONGITUDE: -109 22 30.00000
NORTH_LATITUDE: 45 15 0.00000
SOUTH_LATITUDE: 45 11 15.00000
PRODUCTION_DATE: 2000 12 16
RASTER_ORDER: LEFT_RIGHT/TOP_BOTTOM
BAND_ORGANIZATION: SINGLE FILE
BAND_CONTENT: BLACK&WHITE
BAND_CONTENT: UNDEFINED
BAND_CONTENT: UNDEFINED
BITS_PER_PIXEL: 8
SAMPLES_AND_LINES: 5730 7680
HORIZONTAL_DATUM: NAD83
HORIZONTAL_COORDINATE_SYSTEM: UTM
COORDINATE_ZONE: 12
HORIZONTAL_UNITS: METERS
HORIZONTAL_RESOLUTION: 1.00000
SECONDARY_HORIZONTAL_DATUM: NAD27
XY_ORIGIN: 622230.00000 5012310.00000
SECONDARY_XY_ORIGIN: 622289.90100 5012099.94600
NATION: US
STATE: MT
NW_QUAD_CORNER_XY: 622612.07900 5011910.32200
NE_QUAD_CORNER_XY: 627516.55300 5012007.23300
SE_QUAD_CORNERY_XY: 627656.36500 5005064.02500
SW_QUAD_CORNER_XY: 622746.51100 5004967.11300
SECONDARY_NW_QUAD_XY: 622615.71800 5011692.95100
SECONDARY_NE_QUAD_XY: 627520.33700 5011789.86500
SECONDARY_SE_QUAD_XY: 627660.14800 5004846.71000
SECONDARY_SW_QUAD_XY: 622750.14900 5004749.79400
RMSE_XY: 2.98000
IMAGE_SOURCE: BLACK AND WHITE FILM
SOURCE_IMAGE_ID: NAPP 11012 33
SOURCE_IMAGE_DATE: 1998 08 25
SOURCE_IMAGE_ID: NAPP 11012 18
SOURCE_IMAGE_DATE: 1998 08 25
SOURCE_IMAGE_ID: NAPP 9153 187
SOURCE_IMAGE_DATE: 1997 08 28
SOURCE_DEM_DATE: 1975 00 00
AGENCY: WESTERN MAPPING CENTER (WMC)
PRODUCER: ANALYTICAL SURVEYS INC.
PRODUCTION_SYSTEM: ORBIT OR_RECTIFY V.5.2
COMPRESSION: UNDEFINED
STANDARD_VERSION: 1996 12
METADATA_DATE: 2000 12 18
DATA_FILE_SIZE: 44012130
BYTE_COUNT: 5730
