FILENAME: O4510950.NWS.831403.tif
QUADRANGLE_NAME: GRANITE PEAK
QUADRANT: NW
WEST_LONGITUDE: -109 52 30.00000
EAST_LONGITUDE: -109 48 45.00000
NORTH_LATITUDE: 45 15 0.00000
SOUTH_LATITUDE: 45 11 15.00000
PRODUCTION_DATE: 1998 1 14
RASTER_ORDER: LEFT_RIGHT/TOP_BOTTOM
BAND_ORGANIZATION: SINGLE FILE
BAND_CONTENT: BLACK&WHITE
BAND_CONTENT: UNDEFINED
BAND_CONTENT: UNDEFINED
BITS_PER_PIXEL: 8
SAMPLES_AND_LINES: 5667 7624
HORIZONTAL_DATUM: NAD83
HORIZONTAL_COORDINATE_SYSTEM: UTM
COORDINATE_ZONE: 12
HORIZONTAL_UNITS: METERS
HORIZONTAL_RESOLUTION: 1.00000
SECONDARY_HORIZONTAL_DATUM: NAD27
XY_ORIGIN: 587922.00000 5011709.00000
SECONDARY_XY_ORIGIN: 587982.15600 5011498.96500
NATION: US
NATION: "SCIENCE
STATE: MT
NW_QUAD_CORNER_XY: 588280.73500 5011338.39500
NE_QUAD_CORNER_XY: 593185.21500 5011408.69400
SE_QUAD_CORNERY_XY: 593287.37300 5004465.47800
SW_QUAD_CORNER_XY: 588377.51500 5004395.17800
SECONDARY_NW_QUAD_XY: 588283.35500 5011121.00600
SECONDARY_NE_QUAD_XY: 593187.98100 5011191.30800
SECONDARY_SE_QUAD_XY: 593290.13800 5004248.14500
SECONDARY_SW_QUAD_XY: 588380.13400 5004177.84200
RMSE_XY: 3.20000
IMAGE_SOURCE: BLACK AND WHITE FILM
SOURCE_IMAGE_ID: NAPP 3826 087
SOURCE_IMAGE_DATE: 1991 09 04
SOURCE_IMAGE_ID: NAPP 3832 021
SOURCE_IMAGE_DATE: 1992 09 22
SOURCE_IMAGE_ID: NAPP 3832 036
SOURCE_IMAGE_DATE: 1992 09 22
SOURCE_IMAGE_ID: NAPP 3832 038
SOURCE_IMAGE_DATE: 1992 09 22
SOURCE_IMAGE_ID: NAPP 3826 085
SOURCE_IMAGE_DATE: 1991 09 04
SOURCE_DEM_DATE: 1997 01 01
AGENCY: WESTERN MAPPING CENTER (WMC)
PRODUCER: UNDEFINED
PRODUCTION_SYSTEM: GIS/MAGIC
COMPRESSION: UNDEFINED
STANDARD_VERSION: 1996 12
METADATA_DATE: 1998 01 15
DATA_FILE_SIZE: 43210875
BYTE_COUNT: 5667
