FILENAME: O4510950.SES.831404.tif
QUADRANGLE_NAME: GRANITE PEAK
QUADRANT: SE
WEST_LONGITUDE: -109 48 45.00000
EAST_LONGITUDE: -109 45 0.00000
NORTH_LATITUDE: 45 11 15.00000
SOUTH_LATITUDE: 45 7 30.00000
PRODUCTION_DATE: 1998 1 15
RASTER_ORDER: LEFT_RIGHT/TOP_BOTTOM
BAND_ORGANIZATION: SINGLE FILE
BAND_CONTENT: BLACK&WHITE
BAND_CONTENT: UNDEFINED
BAND_CONTENT: UNDEFINED
BITS_PER_PIXEL: 8
SAMPLES_AND_LINES: 5678 7627
HORIZONTAL_DATUM: NAD83
HORIZONTAL_COORDINATE_SYSTEM: UTM
COORDINATE_ZONE: 12
HORIZONTAL_UNITS: METERS
HORIZONTAL_RESOLUTION: 1.00000
SECONDARY_HORIZONTAL_DATUM: NAD27
XY_ORIGIN: 592928.00000 5004840.00000
SECONDARY_XY_ORIGIN: 592988.19800 5004629.96200
NATION: US
NATION: "SCIENCE
STATE: MT
NW_QUAD_CORNER_XY: 593287.37300 5004465.47800
NE_QUAD_CORNER_XY: 598197.23100 5004539.58000
SE_QUAD_CORNERY_XY: 598304.64900 4997596.43800
SW_QUAD_CORNER_XY: 593389.41900 4997522.33600
SECONDARY_NW_QUAD_XY: 593290.13800 5004248.14500
SECONDARY_NE_QUAD_XY: 598200.14100 5004322.24900
SECONDARY_SE_QUAD_XY: 598307.55900 4997379.16000
SECONDARY_SW_QUAD_XY: 593392.18300 4997305.05600
RMSE_XY: 3.80000
IMAGE_SOURCE: BLACK AND WHITE FILM
SOURCE_IMAGE_ID: NAPP 3826 071
SOURCE_IMAGE_DATE: 1991 09 04
SOURCE_IMAGE_ID: NAPP 3832 035
SOURCE_IMAGE_DATE: 1992 09 22
SOURCE_IMAGE_ID: NAPP 7825 149
SOURCE_IMAGE_DATE: 1994 08 25
SOURCE_IMAGE_ID: NAPP 3826 085
SOURCE_IMAGE_DATE: 1991 09 04
SOURCE_IMAGE_ID: NAPP 7825 148
SOURCE_IMAGE_DATE: 1994 08 25
SOURCE_DEM_DATE: 1997 01 01
AGENCY: WESTERN MAPPING CENTER (WMC)
PRODUCER: UNDEFINED
PRODUCTION_SYSTEM: GIS/MAGIC
COMPRESSION: UNDEFINED
STANDARD_VERSION: 1996 12
METADATA_DATE: 1998 01 15
DATA_FILE_SIZE: 43311784
BYTE_COUNT: 5678
