FILENAME: O4510947.NES.1121475.tif
QUADRANGLE_NAME: ROBERTS
QUADRANT: NE
WEST_LONGITUDE: -109 11 15.00000
EAST_LONGITUDE: -109 7 30.00000
NORTH_LATITUDE: 45 22 30.00000
SOUTH_LATITUDE: 45 18 45.00000
PRODUCTION_DATE: 2000 12 16
RASTER_ORDER: LEFT_RIGHT/TOP_BOTTOM
BAND_ORGANIZATION: SINGLE FILE
BAND_CONTENT: BLACK&WHITE
BAND_CONTENT: UNDEFINED
BAND_CONTENT: UNDEFINED
BITS_PER_PIXEL: 8
SAMPLES_AND_LINES: 5730 7680
HORIZONTAL_DATUM: NAD83
HORIZONTAL_COORDINATE_SYSTEM: UTM
COORDINATE_ZONE: 12
HORIZONTAL_UNITS: METERS
HORIZONTAL_RESOLUTION: 1.00000
SECONDARY_HORIZONTAL_DATUM: NAD27
XY_ORIGIN: 641550.00000 5026620.00000
SECONDARY_XY_ORIGIN: 641609.76400 5026409.91400
NATION: US
STATE: MT
NW_QUAD_CORNER_XY: 641917.54800 5026207.39500
NE_QUAD_CORNER_XY: 646811.23600 5026319.51300
SE_QUAD_CORNERY_XY: 646972.92400 5019376.17500
SW_QUAD_CORNER_XY: 642073.84200 5019264.05500
SECONDARY_NW_QUAD_XY: 641921.77100 5025989.93400
SECONDARY_NE_QUAD_XY: 646815.60500 5026102.05500
SECONDARY_SE_QUAD_XY: 646977.29200 5019158.76800
SECONDARY_SW_QUAD_XY: 642078.06500 5019046.64400
RMSE_XY: 1.51000
IMAGE_SOURCE: BLACK AND WHITE FILM
SOURCE_IMAGE_ID: NAPP 9130 86
SOURCE_IMAGE_DATE: 1996 07 27
SOURCE_DEM_DATE: 1956 00 00
AGENCY: WESTERN MAPPING CENTER (WMC)
PRODUCER: ANALYTICAL SURVEYS INC.
PRODUCTION_SYSTEM: ORBIT OR_RECTIFY V.5.2
COMPRESSION: UNDEFINED
STANDARD_VERSION: 1996 12
METADATA_DATE: 2000 12 19
DATA_FILE_SIZE: 44012130
BYTE_COUNT: 5730
