FILENAME: O4510947.NWS.1121476.tif
QUADRANGLE_NAME: ROBERTS
QUADRANT: NW
WEST_LONGITUDE: -109 15 0.00000
EAST_LONGITUDE: -109 11 15.00000
NORTH_LATITUDE: 45 22 30.00000
SOUTH_LATITUDE: 45 18 45.00000
PRODUCTION_DATE: 2000 12 15
RASTER_ORDER: LEFT_RIGHT/TOP_BOTTOM
BAND_ORGANIZATION: SINGLE FILE
BAND_CONTENT: BLACK&WHITE
BAND_CONTENT: UNDEFINED
BAND_CONTENT: UNDEFINED
BITS_PER_PIXEL: 8
SAMPLES_AND_LINES: 5730 7710
HORIZONTAL_DATUM: NAD83
HORIZONTAL_COORDINATE_SYSTEM: UTM
COORDINATE_ZONE: 12
HORIZONTAL_UNITS: METERS
HORIZONTAL_RESOLUTION: 1.00000
SECONDARY_HORIZONTAL_DATUM: NAD27
XY_ORIGIN: 636660.00000 5026530.00000
SECONDARY_XY_ORIGIN: 636719.81500 5026319.92400
NATION: US
STATE: MT
NW_QUAD_CORNER_XY: 637023.85700 5026099.08000
NE_QUAD_CORNER_XY: 641917.54800 5026207.39500
SE_QUAD_CORNERY_XY: 642073.84200 5019264.05500
SW_QUAD_CORNER_XY: 637174.75900 5019155.73700
SECONDARY_NW_QUAD_XY: 637027.93500 5025881.61600
SECONDARY_NE_QUAD_XY: 641921.77100 5025989.93400
SECONDARY_SE_QUAD_XY: 642078.06500 5019046.64400
SECONDARY_SW_QUAD_XY: 637178.83600 5018938.32300
RMSE_XY: 1.28000
IMAGE_SOURCE: BLACK AND WHITE FILM
SOURCE_IMAGE_ID: NAPP 9130 105
SOURCE_IMAGE_DATE: 1996 07 27
SOURCE_DEM_DATE: 1956 00 00
AGENCY: WESTERN MAPPING CENTER (WMC)
PRODUCER: ANALYTICAL SURVEYS INC.
PRODUCTION_SYSTEM: ORBIT OR_RECTIFY V.5.2
COMPRESSION: UNDEFINED
STANDARD_VERSION: 1996 12
METADATA_DATE: 2000 12 17
DATA_FILE_SIZE: 44184030
BYTE_COUNT: 5730
