FILENAME: O4510946.NWS.1121472.tif
QUADRANGLE_NAME: CASTAGNE
QUADRANT: NW
WEST_LONGITUDE: -109 22 30.00000
EAST_LONGITUDE: -109 18 45.00000
NORTH_LATITUDE: 45 22 30.00000
SOUTH_LATITUDE: 45 18 45.00000
PRODUCTION_DATE: 2000 12 15
RASTER_ORDER: LEFT_RIGHT/TOP_BOTTOM
BAND_ORGANIZATION: SINGLE FILE
BAND_CONTENT: BLACK&WHITE
BAND_CONTENT: UNDEFINED
BAND_CONTENT: UNDEFINED
BITS_PER_PIXEL: 8
SAMPLES_AND_LINES: 5700 7680
HORIZONTAL_DATUM: NAD83
HORIZONTAL_COORDINATE_SYSTEM: UTM
COORDINATE_ZONE: 12
HORIZONTAL_UNITS: METERS
HORIZONTAL_RESOLUTION: 1.00000
SECONDARY_HORIZONTAL_DATUM: NAD27
XY_ORIGIN: 626880.00000 5026320.00000
SECONDARY_XY_ORIGIN: 626939.87200 5026109.90500
NATION: US
STATE: MT
NW_QUAD_CORNER_XY: 627236.47100 5025893.85900
NE_QUAD_CORNER_XY: 632130.16500 5025994.56800
SE_QUAD_CORNERY_XY: 632275.67400 5019051.22300
SW_QUAD_CORNER_XY: 627376.58800 5018950.51100
SECONDARY_NW_QUAD_XY: 627240.25700 5025676.38800
SECONDARY_NE_QUAD_XY: 632134.09700 5025777.10100
SECONDARY_SE_QUAD_XY: 632279.60600 5018833.80600
SECONDARY_SW_QUAD_XY: 627380.37400 5018733.09100
RMSE_XY: 1.64000
IMAGE_SOURCE: BLACK AND WHITE FILM
SOURCE_IMAGE_ID: NAPP 9149 42
SOURCE_IMAGE_DATE: 1996 09 02
SOURCE_DEM_DATE: 1956 00 00
AGENCY: WESTERN MAPPING CENTER (WMC)
PRODUCER: ANALYTICAL SURVEYS INC.
PRODUCTION_SYSTEM: ORBIT OR_RECTIFY V.5.2
COMPRESSION: UNDEFINED
STANDARD_VERSION: 1996 12
METADATA_DATE: 2000 12 17
DATA_FILE_SIZE: 43781700
BYTE_COUNT: 5700
