FILENAME: O4510946.SES.1121473.tif
QUADRANGLE_NAME: CASTAGNE
QUADRANT: SE
WEST_LONGITUDE: -109 18 45.00000
EAST_LONGITUDE: -109 15 0.00000
NORTH_LATITUDE: 45 18 45.00000
SOUTH_LATITUDE: 45 15 0.00000
PRODUCTION_DATE: 2000 12 15
RASTER_ORDER: LEFT_RIGHT/TOP_BOTTOM
BAND_ORGANIZATION: SINGLE FILE
BAND_CONTENT: BLACK&WHITE
BAND_CONTENT: UNDEFINED
BAND_CONTENT: UNDEFINED
BITS_PER_PIXEL: 8
SAMPLES_AND_LINES: 5760 7680
HORIZONTAL_DATUM: NAD83
HORIZONTAL_COORDINATE_SYSTEM: UTM
COORDINATE_ZONE: 12
HORIZONTAL_UNITS: METERS
HORIZONTAL_RESOLUTION: 1.00000
SECONDARY_HORIZONTAL_DATUM: NAD27
XY_ORIGIN: 631890.00000 5019480.00000
SECONDARY_XY_ORIGIN: 631949.82900 5019269.94700
NATION: US
STATE: MT
NW_QUAD_CORNER_XY: 632275.67400 5019051.22300
NE_QUAD_CORNER_XY: 637174.75900 5019155.73700
SE_QUAD_CORNERY_XY: 637325.49700 5012212.46300
SW_QUAD_CORNER_XY: 632421.02500 5012107.94700
SECONDARY_NW_QUAD_XY: 632279.60600 5018833.80600
SECONDARY_NE_QUAD_XY: 637178.83600 5018938.32300
SECONDARY_SE_QUAD_XY: 637329.57300 5011995.10100
SECONDARY_SW_QUAD_XY: 632424.95600 5011890.58200
RMSE_XY: 1.27000
IMAGE_SOURCE: BLACK AND WHITE FILM
SOURCE_IMAGE_ID: NAPP 9153 90
SOURCE_IMAGE_DATE: 1997 08 28
SOURCE_DEM_DATE: 1956 00 00
AGENCY: WESTERN MAPPING CENTER (WMC)
PRODUCER: ANALYTICAL SURVEYS INC.
PRODUCTION_SYSTEM: ORBIT OR_RECTIFY V.5.2
COMPRESSION: UNDEFINED
STANDARD_VERSION: 1996 12
METADATA_DATE: 2000 12 17
DATA_FILE_SIZE: 44242560
BYTE_COUNT: 5760
