FILENAME: O4510944.NWS.1121452.tif
QUADRANGLE_NAME: MACKAY RANCH
QUADRANT: NW
WEST_LONGITUDE: -109 37 30.00000
EAST_LONGITUDE: -109 33 45.00000
NORTH_LATITUDE: 45 22 30.00000
SOUTH_LATITUDE: 45 18 45.00000
PRODUCTION_DATE: 2000 12 08
RASTER_ORDER: LEFT_RIGHT/TOP_BOTTOM
BAND_ORGANIZATION: SINGLE FILE
BAND_CONTENT: BLACK&WHITE
BAND_CONTENT: UNDEFINED
BAND_CONTENT: UNDEFINED
BITS_PER_PIXEL: 8
SAMPLES_AND_LINES: 5700 7680
HORIZONTAL_DATUM: NAD83
HORIZONTAL_COORDINATE_SYSTEM: UTM
COORDINATE_ZONE: 12
HORIZONTAL_UNITS: METERS
HORIZONTAL_RESOLUTION: 1.00000
SECONDARY_HORIZONTAL_DATUM: NAD27
XY_ORIGIN: 607290.00000 5025930.00000
SECONDARY_XY_ORIGIN: 607349.94900 5025719.84100
NATION: US
STATE: MT
NW_QUAD_CORNER_XY: 607661.67700 5025529.04200
NE_QUAD_CORNER_XY: 612555.37800 5025614.54300
SE_QUAD_CORNERY_XY: 612679.32100 5018671.18900
SW_QUAD_CORNER_XY: 607780.22900 5018585.68500
SECONDARY_NW_QUAD_XY: 607664.88100 5025311.56000
SECONDARY_NE_QUAD_XY: 612558.72700 5025397.06400
SECONDARY_SE_QUAD_XY: 612682.66900 5018453.76100
SECONDARY_SW_QUAD_XY: 607783.43200 5018368.25400
RMSE_XY: 2.56000
IMAGE_SOURCE: BLACK AND WHITE FILM
SOURCE_IMAGE_ID: NAPP 11012 52
SOURCE_IMAGE_DATE: 1998 08 25
SOURCE_DEM_DATE: 2000 01 01
AGENCY: WESTERN MAPPING CENTER (WMC)
PRODUCER: ANALYTICAL SURVEYS INC.
PRODUCTION_SYSTEM: ORBIT OR_RECTIFY V.5.2
COMPRESSION: UNDEFINED
STANDARD_VERSION: 1996 12
METADATA_DATE: 2000 12 14
DATA_FILE_SIZE: 43781700
BYTE_COUNT: 5700
