FILENAME: O4510944.SES.1121453.tif
QUADRANGLE_NAME: MACKAY RANCH
QUADRANT: SE
WEST_LONGITUDE: -109 33 45.00000
EAST_LONGITUDE: -109 30 0.00000
NORTH_LATITUDE: 45 18 45.00000
SOUTH_LATITUDE: 45 15 0.00000
PRODUCTION_DATE: 2000 12 08
RASTER_ORDER: LEFT_RIGHT/TOP_BOTTOM
BAND_ORGANIZATION: SINGLE FILE
BAND_CONTENT: BLACK&WHITE
BAND_CONTENT: UNDEFINED
BAND_CONTENT: UNDEFINED
BITS_PER_PIXEL: 8
SAMPLES_AND_LINES: 5730 7680
HORIZONTAL_DATUM: NAD83
HORIZONTAL_COORDINATE_SYSTEM: UTM
COORDINATE_ZONE: 12
HORIZONTAL_UNITS: METERS
HORIZONTAL_RESOLUTION: 1.00000
SECONDARY_HORIZONTAL_DATUM: NAD27
XY_ORIGIN: 612300.00000 5019090.00000
SECONDARY_XY_ORIGIN: 612359.95700 5018879.88900
NATION: US
STATE: MT
NW_QUAD_CORNER_XY: 612679.32100 5018671.18900
NE_QUAD_CORNER_XY: 617578.41100 5018760.49400
SE_QUAD_CORNERY_XY: 617707.60400 5011817.21300
SW_QUAD_CORNER_XY: 612803.12800 5011727.90600
SECONDARY_NW_QUAD_XY: 612682.66900 5018453.76100
SECONDARY_NE_QUAD_XY: 617581.90500 5018543.06800
SECONDARY_SE_QUAD_XY: 617711.09800 5011599.83900
SECONDARY_SW_QUAD_XY: 612806.47600 5011510.52900
RMSE_XY: 3.55000
IMAGE_SOURCE: BLACK AND WHITE FILM
SOURCE_IMAGE_ID: NAPP 11012 47
SOURCE_IMAGE_DATE: 1998 08 25
SOURCE_DEM_DATE: 2000 01 01
AGENCY: WESTERN MAPPING CENTER (WMC)
PRODUCER: ANALYTICAL SURVEYS INC.
PRODUCTION_SYSTEM: ORBIT OR_RECTIFY V.5.2
COMPRESSION: UNDEFINED
STANDARD_VERSION: 1996 12
METADATA_DATE: 2000 12 14
DATA_FILE_SIZE: 44012130
BYTE_COUNT: 5730
