FILENAME: O4510943.NES.1121447.tif
QUADRANGLE_NAME: EMERALD LAKE
QUADRANT: NE
WEST_LONGITUDE: -109 41 15.00000
EAST_LONGITUDE: -109 37 30.00000
NORTH_LATITUDE: 45 22 30.00000
SOUTH_LATITUDE: 45 18 45.00000
PRODUCTION_DATE: 2000 12 08
RASTER_ORDER: LEFT_RIGHT/TOP_BOTTOM
BAND_ORGANIZATION: SINGLE FILE
BAND_CONTENT: BLACK&WHITE
BAND_CONTENT: UNDEFINED
BAND_CONTENT: UNDEFINED
BITS_PER_PIXEL: 8
SAMPLES_AND_LINES: 5700 7650
HORIZONTAL_DATUM: NAD83
HORIZONTAL_COORDINATE_SYSTEM: UTM
COORDINATE_ZONE: 12
HORIZONTAL_UNITS: METERS
HORIZONTAL_RESOLUTION: 1.00000
SECONDARY_HORIZONTAL_DATUM: NAD27
XY_ORIGIN: 602400.00000 5025840.00000
SECONDARY_XY_ORIGIN: 602459.95900 5025629.81600
NATION: US
STATE: MT
NW_QUAD_CORNER_XY: 602767.97500 5025447.34200
NE_QUAD_CORNER_XY: 607661.67700 5025529.04200
SE_QUAD_CORNERY_XY: 607780.22900 5018585.68500
SW_QUAD_CORNER_XY: 602881.13600 5018503.98300
SECONDARY_NW_QUAD_XY: 602771.03300 5025229.85800
SECONDARY_NE_QUAD_XY: 607664.88100 5025311.56000
SECONDARY_SE_QUAD_XY: 607783.43200 5018368.25400
SECONDARY_SW_QUAD_XY: 602884.19300 5018286.55000
RMSE_XY: 1.73000
IMAGE_SOURCE: BLACK AND WHITE FILM
SOURCE_IMAGE_ID: NAPP 11012 131
SOURCE_IMAGE_DATE: 1998 08 25
SOURCE_IMAGE_ID: NAPP 11012 129
SOURCE_IMAGE_DATE: 1998 08 25
SOURCE_IMAGE_ID: NAPP 11012 52
SOURCE_IMAGE_DATE: 1998 08 25
SOURCE_DEM_DATE: 1952 00 00
AGENCY: WESTERN MAPPING CENTER (WMC)
PRODUCER: ANALYTICAL SURVEYS INC.
PRODUCTION_SYSTEM: ORBIT OR_RECTIFY V.5.2
COMPRESSION: UNDEFINED
STANDARD_VERSION: 1996 12
METADATA_DATE: 2000 12 14
DATA_FILE_SIZE: 43610700
BYTE_COUNT: 5700
