FILENAME: O4510943.SWS.1121450.tif
QUADRANGLE_NAME: EMERALD LAKE
QUADRANT: SW
WEST_LONGITUDE: -109 45 0.00000
EAST_LONGITUDE: -109 41 15.00000
NORTH_LATITUDE: 45 18 45.00000
SOUTH_LATITUDE: 45 15 0.00000
PRODUCTION_DATE: 2000 12 08
RASTER_ORDER: LEFT_RIGHT/TOP_BOTTOM
BAND_ORGANIZATION: SINGLE FILE
BAND_CONTENT: BLACK&WHITE
BAND_CONTENT: UNDEFINED
BAND_CONTENT: UNDEFINED
BITS_PER_PIXEL: 8
SAMPLES_AND_LINES: 5700 7650
HORIZONTAL_DATUM: NAD83
HORIZONTAL_COORDINATE_SYSTEM: UTM
COORDINATE_ZONE: 12
HORIZONTAL_UNITS: METERS
HORIZONTAL_RESOLUTION: 1.00000
SECONDARY_HORIZONTAL_DATUM: NAD27
XY_ORIGIN: 597600.00000 5018820.00000
SECONDARY_XY_ORIGIN: 597660.02000 5018609.82900
NATION: US
STATE: MT
NW_QUAD_CORNER_XY: 597982.04200 5018426.08300
NE_QUAD_CORNER_XY: 602881.13600 5018503.98300
SE_QUAD_CORNERY_XY: 602994.17400 5011560.69700
SW_QUAD_CORNER_XY: 598089.69500 5011482.79500
SECONDARY_NW_QUAD_XY: 597984.95300 5018208.64700
SECONDARY_NE_QUAD_XY: 602884.19300 5018286.55000
SECONDARY_SE_QUAD_XY: 602997.23000 5011343.31600
SECONDARY_SW_QUAD_XY: 598092.60600 5011265.41100
RMSE_XY: 2.55000
IMAGE_SOURCE: BLACK AND WHITE FILM
SOURCE_IMAGE_ID: NAPP 11012 163
SOURCE_IMAGE_DATE: 1998 08 25
SOURCE_IMAGE_ID: NAPP 11012 68
SOURCE_IMAGE_DATE: 1998 08 25
SOURCE_IMAGE_ID: NAPP 11012 129
SOURCE_IMAGE_DATE: 1998 08 25
SOURCE_DEM_DATE: 1952 00 00
AGENCY: WESTERN MAPPING CENTER (WMC)
PRODUCER: ANALYTICAL SURVEYS INC.
PRODUCTION_SYSTEM: ORBIT OR_RECTIFY V.5.2
COMPRESSION: UNDEFINED
STANDARD_VERSION: 1996 12
METADATA_DATE: 2000 12 14
DATA_FILE_SIZE: 43610700
BYTE_COUNT: 5700
