FILENAME: O4510939.SES.1121465.tif
QUADRANGLE_NAME: COONEY RESERVOIR
QUADRANT: SE
WEST_LONGITUDE: -109 11 15.00000
EAST_LONGITUDE: -109 7 30.00000
NORTH_LATITUDE: 45 26 15.00000
SOUTH_LATITUDE: 45 22 30.00000
PRODUCTION_DATE: 2000 12 15
RASTER_ORDER: LEFT_RIGHT/TOP_BOTTOM
BAND_ORGANIZATION: SINGLE FILE
BAND_CONTENT: BLACK&WHITE
BAND_CONTENT: UNDEFINED
BAND_CONTENT: UNDEFINED
BITS_PER_PIXEL: 8
SAMPLES_AND_LINES: 5730 7680
HORIZONTAL_DATUM: NAD83
HORIZONTAL_COORDINATE_SYSTEM: UTM
COORDINATE_ZONE: 12
HORIZONTAL_UNITS: METERS
HORIZONTAL_RESOLUTION: 1.00000
SECONDARY_HORIZONTAL_DATUM: NAD27
XY_ORIGIN: 641400.00000 5033580.00000
SECONDARY_XY_ORIGIN: 641459.78800 5033369.87600
NATION: US
STATE: MT
NW_QUAD_CORNER_XY: 641761.08300 5033150.80500
NE_QUAD_CORNER_XY: 646649.37200 5033262.92000
SE_QUAD_CORNERY_XY: 646811.23600 5026319.51300
SW_QUAD_CORNER_XY: 641917.54800 5026207.39500
SECONDARY_NW_QUAD_XY: 641765.30800 5032933.29300
SECONDARY_NE_QUAD_XY: 646653.74300 5033045.41100
SECONDARY_SE_QUAD_XY: 646815.60500 5026102.05500
SECONDARY_SW_QUAD_XY: 641921.77100 5025989.93400
RMSE_XY: 1.45000
IMAGE_SOURCE: BLACK AND WHITE FILM
SOURCE_IMAGE_ID: NAPP 9130 84
SOURCE_IMAGE_DATE: 1996 07 27
SOURCE_DEM_DATE: 1956 00 00
AGENCY: WESTERN MAPPING CENTER (WMC)
PRODUCER: ANALYTICAL SURVEYS INC.
PRODUCTION_SYSTEM: ORBIT OR_RECTIFY V.5.2
COMPRESSION: UNDEFINED
STANDARD_VERSION: 1996 12
METADATA_DATE: 2000 12 15
DATA_FILE_SIZE: 44012130
BYTE_COUNT: 5730
