FILENAME: O4510938.NWS.1121460.tif
QUADRANGLE_NAME: ROSCOE NE
QUADRANT: NW
WEST_LONGITUDE: -109 22 30.00000
EAST_LONGITUDE: -109 18 45.00000
NORTH_LATITUDE: 45 30 0.00000
SOUTH_LATITUDE: 45 26 15.00000
PRODUCTION_DATE: 2000 12 15
RASTER_ORDER: LEFT_RIGHT/TOP_BOTTOM
BAND_ORGANIZATION: SINGLE FILE
BAND_CONTENT: BLACK&WHITE
BAND_CONTENT: UNDEFINED
BAND_CONTENT: UNDEFINED
BITS_PER_PIXEL: 8
SAMPLES_AND_LINES: 5730 7710
HORIZONTAL_DATUM: NAD83
HORIZONTAL_COORDINATE_SYSTEM: UTM
COORDINATE_ZONE: 12
HORIZONTAL_UNITS: METERS
HORIZONTAL_RESOLUTION: 1.00000
SECONDARY_HORIZONTAL_DATUM: NAD27
XY_ORIGIN: 626580.00000 5040210.00000
SECONDARY_XY_ORIGIN: 626639.88600 5039999.85000
NATION: US
STATE: MT
NW_QUAD_CORNER_XY: 626955.77900 5039780.76500
NE_QUAD_CORNER_XY: 631838.67200 5039881.46900
SE_QUAD_CORNERY_XY: 631984.49700 5032937.98400
SW_QUAD_CORNER_XY: 627096.20100 5032837.27700
SECONDARY_NW_QUAD_XY: 626959.56800 5039563.19500
SECONDARY_NE_QUAD_XY: 631842.60600 5039663.90200
SECONDARY_SE_QUAD_XY: 631988.43100 5032720.46600
SECONDARY_SW_QUAD_XY: 627099.98900 5032619.75600
RMSE_XY: 1.43000
IMAGE_SOURCE: BLACK AND WHITE FILM
SOURCE_IMAGE_ID: NAPP 9149 38
SOURCE_IMAGE_DATE: 1996 09 02
SOURCE_IMAGE_ID: NAPP 9149 40
SOURCE_IMAGE_DATE: 1996 09 02
SOURCE_DEM_DATE: 1956 00 00
AGENCY: WESTERN MAPPING CENTER (WMC)
PRODUCER: ANALYTICAL SURVEYS INC.
PRODUCTION_SYSTEM: ORBIT OR_RECTIFY V.5.2
COMPRESSION: UNDEFINED
STANDARD_VERSION: 1996 12
METADATA_DATE: 2000 12 15
DATA_FILE_SIZE: 44184030
BYTE_COUNT: 5730
