FILENAME: O4510933.SES.1145707.tif
QUADRANGLE_NAME: MEYER MOUNTAIN
QUADRANT: SE
WEST_LONGITUDE: -109 56 15.00000
EAST_LONGITUDE: -109 52 30.00000
NORTH_LATITUDE: 45 26 15.00000
SOUTH_LATITUDE: 45 22 30.00000
PRODUCTION_DATE: 2001 04 04
RASTER_ORDER: LEFT_RIGHT/TOP_BOTTOM
BAND_ORGANIZATION: SINGLE FILE
BAND_CONTENT: BLACK&WHITE
BAND_CONTENT: UNDEFINED
BAND_CONTENT: UNDEFINED
BITS_PER_PIXEL: 8
SAMPLES_AND_LINES: 5670 7620
HORIZONTAL_DATUM: NAD83
HORIZONTAL_COORDINATE_SYSTEM: UTM
COORDINATE_ZONE: 12
HORIZONTAL_UNITS: METERS
HORIZONTAL_RESOLUTION: 1.00000
SECONDARY_HORIZONTAL_DATUM: NAD27
XY_ORIGIN: 582720.00000 5032470.00000
SECONDARY_XY_ORIGIN: 582779.99800 5032259.99400
NATION: US
STATE: MT
NW_QUAD_CORNER_XY: 583101.45000 5032101.99100
NE_QUAD_CORNER_XY: 587989.76300 5032168.48500
SE_QUAD_CORNERY_XY: 588086.85900 5025225.04800
SW_QUAD_CORNER_XY: 583193.15100 5025158.55200
SECONDARY_NW_QUAD_XY: 583103.92700 5031884.44800
SECONDARY_NE_QUAD_XY: 587992.38500 5031950.94500
SECONDARY_SE_QUAD_XY: 588089.48000 5025007.55800
SECONDARY_SW_QUAD_XY: 583195.62700 5024941.06000
RMSE_XY: 2.89000
IMAGE_SOURCE: BLACK AND WHITE FILM
SOURCE_IMAGE_ID: NAPP 11012 97
SOURCE_IMAGE_DATE: 1998 08 25
SOURCE_IMAGE_ID: NAPP 11012 112
SOURCE_IMAGE_DATE: 1998 08 25
SOURCE_DEM_DATE: 1979 00 00
AGENCY: WESTERN MAPPING CENTER (WMC)
PRODUCER: ANALYTICAL SURVEYS INC.
PRODUCTION_SYSTEM: ORBIT OR_RECTIFY V.5.2
COMPRESSION: UNDEFINED
STANDARD_VERSION: 1996 12
METADATA_DATE: 2001 04 06
DATA_FILE_SIZE: 43211070
BYTE_COUNT: 5670
