FILENAME: O4510932.SES.1123049.tif
QUADRANGLE_NAME: RAPIDS
QUADRANT: SE
WEST_LONGITUDE: -109 3 45.00000
EAST_LONGITUDE: -109 0 0.00000
NORTH_LATITUDE: 45 33 45.00000
SOUTH_LATITUDE: 45 30 0.00000
PRODUCTION_DATE: 2000 12 01
RASTER_ORDER: LEFT_RIGHT/TOP_BOTTOM
BAND_ORGANIZATION: SINGLE FILE
BAND_CONTENT: BLACK&WHITE
BAND_CONTENT: UNDEFINED
BAND_CONTENT: UNDEFINED
BITS_PER_PIXEL: 8
SAMPLES_AND_LINES: 5760 7710
HORIZONTAL_DATUM: NAD83
HORIZONTAL_COORDINATE_SYSTEM: UTM
COORDINATE_ZONE: 12
HORIZONTAL_UNITS: METERS
HORIZONTAL_RESOLUTION: 1.00000
SECONDARY_HORIZONTAL_DATUM: NAD27
XY_ORIGIN: 650820.00000 5047710.00000
SECONDARY_XY_ORIGIN: 650879.71900 5047499.85900
NATION: US
STATE: MT
NW_QUAD_CORNER_XY: 651202.58800 5047265.84600
NE_QUAD_CORNER_XY: 656080.05500 5047385.55900
SE_QUAD_CORNERY_XY: 656253.09300 5040442.02600
SW_QUAD_CORNER_XY: 651370.21400 5040322.30800
SECONDARY_NW_QUAD_XY: 651207.10700 5047048.24400
SECONDARY_NE_QUAD_XY: 656084.72000 5047167.96100
SECONDARY_SE_QUAD_XY: 656257.75600 5040224.47500
SECONDARY_SW_QUAD_XY: 651374.73200 5040104.75400
RMSE_XY: 1.25000
IMAGE_SOURCE: BLACK AND WHITE FILM
SOURCE_IMAGE_ID: NAPP 9129 106
SOURCE_IMAGE_DATE: 1996 07 27
SOURCE_DEM_DATE: 1956 00 00
AGENCY: WESTERN MAPPING CENTER (WMC)
PRODUCER: ANALYTICAL SURVEYS INC.
PRODUCTION_SYSTEM: ORBIT OR_RECTIFY V.5.2
COMPRESSION: UNDEFINED
STANDARD_VERSION: 1996 12
METADATA_DATE: 2000 12 04
DATA_FILE_SIZE: 44415360
BYTE_COUNT: 5760
