FILENAME: O4510932.SWS.1123050.tif
QUADRANGLE_NAME: RAPIDS
QUADRANT: SW
WEST_LONGITUDE: -109 7 30.00000
EAST_LONGITUDE: -109 3 45.00000
NORTH_LATITUDE: 45 33 45.00000
SOUTH_LATITUDE: 45 30 0.00000
PRODUCTION_DATE: 2000 12 01
RASTER_ORDER: LEFT_RIGHT/TOP_BOTTOM
BAND_ORGANIZATION: SINGLE FILE
BAND_CONTENT: BLACK&WHITE
BAND_CONTENT: UNDEFINED
BAND_CONTENT: UNDEFINED
BITS_PER_PIXEL: 8
SAMPLES_AND_LINES: 5730 7710
HORIZONTAL_DATUM: NAD83
HORIZONTAL_COORDINATE_SYSTEM: UTM
COORDINATE_ZONE: 12
HORIZONTAL_UNITS: METERS
HORIZONTAL_RESOLUTION: 1.00000
SECONDARY_HORIZONTAL_DATUM: NAD27
XY_ORIGIN: 645960.00000 5047590.00000
SECONDARY_XY_ORIGIN: 646019.75700 5047379.89600
NATION: US
STATE: MT
NW_QUAD_CORNER_XY: 646325.11800 5047149.93600
NE_QUAD_CORNER_XY: 651202.58800 5047265.84600
SE_QUAD_CORNERY_XY: 651370.21400 5040322.30800
SW_QUAD_CORNER_XY: 646487.33300 5040206.39400
SECONDARY_NW_QUAD_XY: 646329.49100 5046932.33100
SECONDARY_NE_QUAD_XY: 651207.10700 5047048.24400
SECONDARY_SE_QUAD_XY: 651374.73200 5040104.75400
SECONDARY_SW_QUAD_XY: 646491.70400 5039988.83700
RMSE_XY: 1.25000
IMAGE_SOURCE: BLACK AND WHITE FILM
SOURCE_IMAGE_ID: NAPP 9129 132
SOURCE_IMAGE_DATE: 1996 07 27
SOURCE_DEM_DATE: 1956 00 00
AGENCY: WESTERN MAPPING CENTER (WMC)
PRODUCER: ANALYTICAL SURVEYS INC.
PRODUCTION_SYSTEM: ORBIT OR_RECTIFY V.5.2
COMPRESSION: UNDEFINED
STANDARD_VERSION: 1996 12
METADATA_DATE: 2000 12 05
DATA_FILE_SIZE: 44184030
BYTE_COUNT: 5730
