FILENAME: O4510930.NES.1123039.tif
QUADRANGLE_NAME: WHITEBIRD SCHOOL
QUADRANT: NE
WEST_LONGITUDE: -109 18 45.00000
EAST_LONGITUDE: -109 15 0.00000
NORTH_LATITUDE: 45 37 30.00000
SOUTH_LATITUDE: 45 33 45.00000
PRODUCTION_DATE: 2000 12 01
RASTER_ORDER: LEFT_RIGHT/TOP_BOTTOM
BAND_ORGANIZATION: SINGLE FILE
BAND_CONTENT: BLACK&WHITE
BAND_CONTENT: UNDEFINED
BAND_CONTENT: UNDEFINED
BITS_PER_PIXEL: 8
SAMPLES_AND_LINES: 5730 7680
HORIZONTAL_DATUM: NAD83
HORIZONTAL_COORDINATE_SYSTEM: UTM
COORDINATE_ZONE: 12
HORIZONTAL_UNITS: METERS
HORIZONTAL_RESOLUTION: 1.00000
SECONDARY_HORIZONTAL_DATUM: NAD27
XY_ORIGIN: 631170.00000 5054190.00000
SECONDARY_XY_ORIGIN: 631229.84900 5053980.07800
NATION: US
STATE: MT
NW_QUAD_CORNER_XY: 631546.54700 5053768.64800
NE_QUAD_CORNER_XY: 636418.61100 5053873.14500
SE_QUAD_CORNERY_XY: 636570.16800 5046929.52500
SW_QUAD_CORNER_XY: 631692.68800 5046825.02400
SECONDARY_NW_QUAD_XY: 631550.48300 5053550.98500
SECONDARY_NE_QUAD_XY: 636422.69300 5053655.48600
SECONDARY_SE_QUAD_XY: 636574.24900 5046711.91300
SECONDARY_SW_QUAD_XY: 631696.62300 5046607.40800
RMSE_XY: 1.86000
IMAGE_SOURCE: BLACK AND WHITE FILM
SOURCE_IMAGE_ID: NAPP 9153 80
SOURCE_IMAGE_DATE: 1997 08 28
SOURCE_IMAGE_ID: NAPP 9153 82
SOURCE_IMAGE_DATE: 1997 08 28
SOURCE_DEM_DATE: 1955 00 00
AGENCY: WESTERN MAPPING CENTER (WMC)
PRODUCER: ANALYTICAL SURVEYS INC.
PRODUCTION_SYSTEM: ORBIT OR_RECTIFY V.5.2
COMPRESSION: UNDEFINED
STANDARD_VERSION: 1996 12
METADATA_DATE: 2000 12 05
DATA_FILE_SIZE: 44012130
BYTE_COUNT: 5730
