FILENAME: O4510930.NWS.1123040.tif
QUADRANGLE_NAME: WHITEBIRD SCHOOL
QUADRANT: NW
WEST_LONGITUDE: -109 22 30.00000
EAST_LONGITUDE: -109 18 45.00000
NORTH_LATITUDE: 45 37 30.00000
SOUTH_LATITUDE: 45 33 45.00000
PRODUCTION_DATE: 2000 11 01
RASTER_ORDER: LEFT_RIGHT/TOP_BOTTOM
BAND_ORGANIZATION: SINGLE FILE
BAND_CONTENT: BLACK&WHITE
BAND_CONTENT: UNDEFINED
BAND_CONTENT: UNDEFINED
BITS_PER_PIXEL: 8
SAMPLES_AND_LINES: 5700 7680
HORIZONTAL_DATUM: NAD83
HORIZONTAL_COORDINATE_SYSTEM: UTM
COORDINATE_ZONE: 12
HORIZONTAL_UNITS: METERS
HORIZONTAL_RESOLUTION: 1.00000
SECONDARY_HORIZONTAL_DATUM: NAD27
XY_ORIGIN: 626310.00000 5054070.00000
SECONDARY_XY_ORIGIN: 626369.89800 5053860.04900
NATION: US
STATE: MT
NW_QUAD_CORNER_XY: 626674.48000 5053667.95300
NE_QUAD_CORNER_XY: 631546.54700 5053768.64800
SE_QUAD_CORNERY_XY: 631692.68800 5046825.02400
SW_QUAD_CORNER_XY: 626815.20500 5046724.32400
SECONDARY_NW_QUAD_XY: 626678.27000 5053450.28700
SECONDARY_NE_QUAD_XY: 631550.48300 5053550.98500
SECONDARY_SE_QUAD_XY: 631696.62300 5046607.40800
SECONDARY_SW_QUAD_XY: 626818.99500 5046506.70600
RMSE_XY: 2.59000
IMAGE_SOURCE: BLACK AND WHITE FILM
SOURCE_IMAGE_ID: NAPP 9149 34
SOURCE_IMAGE_DATE: 1996 09 02
SOURCE_IMAGE_ID: NAPP 9149 36
SOURCE_IMAGE_DATE: 1996 09 02
SOURCE_DEM_DATE: 1955 00 00
AGENCY: WESTERN MAPPING CENTER (WMC)
PRODUCER: ANALYTICAL SURVEYS INC.
PRODUCTION_SYSTEM: ORBIT OR_RECTIFY V.5.2
COMPRESSION: UNDEFINED
STANDARD_VERSION: 1996 12
METADATA_DATE: 2000 12 05
DATA_FILE_SIZE: 43781700
BYTE_COUNT: 5700
