FILENAME: e:\updates\vol010_q1_2001\tiles\O4510929.NWS.tif
QUADRANGLE_NAME: ABSAROKEE
QUADRANT: NW
WEST_LONGITUDE: -109 30 0.00000
EAST_LONGITUDE: -109 26 15.00000
NORTH_LATITUDE: 45 37 30.00000
SOUTH_LATITUDE: 45 33 45.00000
PRODUCTION_DATE: 2000 11 23
RASTER_ORDER: LEFT_RIGHT/TOP_BOTTOM
BAND_ORGANIZATION: SINGLE FILE
BAND_CONTENT: BLACK&WHITE
BAND_CONTENT: UNDEFINED
BAND_CONTENT: UNDEFINED
BITS_PER_PIXEL: 8
SAMPLES_AND_LINES: 5700 7680
HORIZONTAL_DATUM: NAD83
HORIZONTAL_COORDINATE_SYSTEM: UTM
COORDINATE_ZONE: 12
HORIZONTAL_UNITS: METERS
HORIZONTAL_RESOLUTION: 1.00000
SECONDARY_HORIZONTAL_DATUM: NAD27
XY_ORIGIN: 616560.00000 5053890.00000
SECONDARY_XY_ORIGIN: 616619.99600 5053679.99200
NATION: US
STATE: MT
NW_QUAD_CORNER_XY: 616930.33600 5053477.96700
NE_QUAD_CORNER_XY: 621802.41000 5053571.05900
SE_QUAD_CORNERY_XY: 621937.72000 5046627.42600
SW_QUAD_CORNER_XY: 617060.23200 5046534.33000
SECONDARY_NW_QUAD_XY: 616933.83500 5053260.29600
SECONDARY_NE_QUAD_XY: 621806.05400 5053353.39100
SECONDARY_SE_QUAD_XY: 621941.36400 5046409.80500
SECONDARY_SW_QUAD_XY: 617063.73000 5046316.70600
RMSE_XY: 2.55000
IMAGE_SOURCE: BLACK AND WHITE FILM
SOURCE_IMAGE_ID: NAPP 9153 200
SOURCE_IMAGE_DATE: 1997 08 28
SOURCE_IMAGE_ID: NAPP 9153 198
SOURCE_IMAGE_DATE: 1997 08 28
SOURCE_IMAGE_ID: NAPP 9153 202
SOURCE_IMAGE_DATE: 1997 08 28
SOURCE_DEM_DATE: 1955 00 00
AGENCY: WESTERN MAPPING CENTER (WMC)
PRODUCER: ANALYTICAL SURVEYS INC.
PRODUCTION_SYSTEM: ORBIT OR_RECTIFY V.5.2
COMPRESSION: UNDEFINED
STANDARD_VERSION: 1996 12
METADATA_DATE: 2000 11 27
DATA_FILE_SIZE: 43781700
BYTE_COUNT: 5700
