FILENAME: e:\updates\vol010_q1_2001\tiles\O4510929.SES.tif
QUADRANGLE_NAME: ABSAROKEE
QUADRANT: SE
WEST_LONGITUDE: -109 26 15.00000
EAST_LONGITUDE: -109 22 30.00000
NORTH_LATITUDE: 45 33 45.00000
SOUTH_LATITUDE: 45 30 0.00000
PRODUCTION_DATE: 2000 11 23
RASTER_ORDER: LEFT_RIGHT/TOP_BOTTOM
BAND_ORGANIZATION: SINGLE FILE
BAND_CONTENT: BLACK&WHITE
BAND_CONTENT: UNDEFINED
BAND_CONTENT: UNDEFINED
BITS_PER_PIXEL: 8
SAMPLES_AND_LINES: 5700 7680
HORIZONTAL_DATUM: NAD83
HORIZONTAL_COORDINATE_SYSTEM: UTM
COORDINATE_ZONE: 12
HORIZONTAL_UNITS: METERS
HORIZONTAL_RESOLUTION: 1.00000
SECONDARY_HORIZONTAL_DATUM: NAD27
XY_ORIGIN: 621570.00000 5047050.00000
SECONDARY_XY_ORIGIN: 621629.92100 5046839.94300
NATION: US
STATE: MT
NW_QUAD_CORNER_XY: 621937.72000 5046627.42600
NE_QUAD_CORNER_XY: 626815.20500 5046724.32400
SE_QUAD_CORNERY_XY: 626955.77900 5039780.76500
SW_QUAD_CORNER_XY: 622072.88500 5039683.86400
SECONDARY_NW_QUAD_XY: 621941.36400 5046409.80500
SECONDARY_NE_QUAD_XY: 626818.99500 5046506.70600
SECONDARY_SE_QUAD_XY: 626959.56800 5039563.19500
SECONDARY_SW_QUAD_XY: 622076.52700 5039466.29100
RMSE_XY: 1.56000
IMAGE_SOURCE: BLACK AND WHITE FILM
SOURCE_IMAGE_ID: NAPP 9153 179
SOURCE_IMAGE_DATE: 1997 08 28
SOURCE_DEM_DATE: 1955 00 00
AGENCY: WESTERN MAPPING CENTER (WMC)
PRODUCER: ANALYTICAL SURVEYS INC.
PRODUCTION_SYSTEM: ORBIT OR_RECTIFY V.5.2
COMPRESSION: UNDEFINED
STANDARD_VERSION: 1996 12
METADATA_DATE: 2000 11 27
DATA_FILE_SIZE: 43781700
BYTE_COUNT: 5700
