FILENAME: O4510926.SES.1145774.tif
QUADRANGLE_NAME: WILDCAT DRAW
QUADRANT: SE
WEST_LONGITUDE: -109 48 45.00000
EAST_LONGITUDE: -109 45 0.00000
NORTH_LATITUDE: 45 33 45.00000
SOUTH_LATITUDE: 45 30 0.00000
PRODUCTION_DATE: 2001 03 29
RASTER_ORDER: LEFT_RIGHT/TOP_BOTTOM
BAND_ORGANIZATION: SINGLE FILE
BAND_CONTENT: BLACK&WHITE
BAND_CONTENT: UNDEFINED
BAND_CONTENT: UNDEFINED
BITS_PER_PIXEL: 8
SAMPLES_AND_LINES: 5670 7650
HORIZONTAL_DATUM: NAD83
HORIZONTAL_COORDINATE_SYSTEM: UTM
COORDINATE_ZONE: 12
HORIZONTAL_UNITS: METERS
HORIZONTAL_RESOLUTION: 1.00000
SECONDARY_HORIZONTAL_DATUM: NAD27
XY_ORIGIN: 592290.00000 5046510.00000
SECONDARY_XY_ORIGIN: 592349.99300 5046299.89800
NATION: US
STATE: MT
NW_QUAD_CORNER_XY: 592672.75600 5046125.86900
NE_QUAD_CORNER_XY: 597550.25500 5046199.96000
SE_QUAD_CORNERY_XY: 597658.37700 5039256.38100
SW_QUAD_CORNER_XY: 592775.47000 5039182.28800
SECONDARY_NW_QUAD_XY: 592675.52500 5045908.23300
SECONDARY_NE_QUAD_XY: 597553.17000 5045982.32600
SECONDARY_SE_QUAD_XY: 597661.29200 5039038.79600
SECONDARY_SW_QUAD_XY: 592778.23900 5038964.70000
RMSE_XY: 4.75000
IMAGE_SOURCE: BLACK AND WHITE FILM
SOURCE_IMAGE_ID: NAPP 9150 179
SOURCE_IMAGE_DATE: 1996 09 11
SOURCE_IMAGE_ID: NAPP 9150 177
SOURCE_IMAGE_DATE: 1996 09 11
SOURCE_IMAGE_ID: NAPP 11012 84
SOURCE_IMAGE_DATE: 1998 08 25
SOURCE_DEM_DATE: 1993 00 00
AGENCY: WESTERN MAPPING CENTER (WMC)
PRODUCER: ANALYTICAL SURVEYS INC.
PRODUCTION_SYSTEM: ORBIT OR_RECTIFY V.5.2
COMPRESSION: UNDEFINED
STANDARD_VERSION: 1996 12
METADATA_DATE: 2001 04 20
DATA_FILE_SIZE: 43381170
BYTE_COUNT: 5670
