FILENAME: O4510926.SWS.1145775.tif
QUADRANGLE_NAME: WILDCAT DRAW
QUADRANT: SW
WEST_LONGITUDE: -109 52 30.00000
EAST_LONGITUDE: -109 48 45.00000
NORTH_LATITUDE: 45 33 45.00000
SOUTH_LATITUDE: 45 30 0.00000
PRODUCTION_DATE: 2001 03 29
RASTER_ORDER: LEFT_RIGHT/TOP_BOTTOM
BAND_ORGANIZATION: SINGLE FILE
BAND_CONTENT: BLACK&WHITE
BAND_CONTENT: UNDEFINED
BAND_CONTENT: UNDEFINED
BITS_PER_PIXEL: 8
SAMPLES_AND_LINES: 5670 7650
HORIZONTAL_DATUM: NAD83
HORIZONTAL_COORDINATE_SYSTEM: UTM
COORDINATE_ZONE: 12
HORIZONTAL_UNITS: METERS
HORIZONTAL_RESOLUTION: 1.00000
SECONDARY_HORIZONTAL_DATUM: NAD27
XY_ORIGIN: 587430.00000 5046450.00000
SECONDARY_XY_ORIGIN: 587489.98900 5046239.95500
NATION: US
STATE: MT
NW_QUAD_CORNER_XY: 587795.25400 5046055.57900
NE_QUAD_CORNER_XY: 592672.75600 5046125.86900
SE_QUAD_CORNERY_XY: 592775.47000 5039182.28800
SW_QUAD_CORNER_XY: 587892.56100 5039111.99600
SECONDARY_NW_QUAD_XY: 587797.87700 5045837.94100
SECONDARY_NE_QUAD_XY: 592675.52500 5045908.23300
SECONDARY_SE_QUAD_XY: 592778.23900 5038964.70000
SECONDARY_SW_QUAD_XY: 587895.18400 5038894.40600
RMSE_XY: 2.37000
IMAGE_SOURCE: BLACK AND WHITE FILM
SOURCE_IMAGE_ID: NAPP 11012 84
SOURCE_IMAGE_DATE: 1998 08 25
SOURCE_IMAGE_ID: NAPP 11012 82
SOURCE_IMAGE_DATE: 1998 08 25
SOURCE_DEM_DATE: 1993 00 00
AGENCY: WESTERN MAPPING CENTER (WMC)
PRODUCER: ANALYTICAL SURVEYS INC.
PRODUCTION_SYSTEM: ORBIT OR_RECTIFY V.5.2
COMPRESSION: UNDEFINED
STANDARD_VERSION: 1996 12
METADATA_DATE: 2001 04 04
DATA_FILE_SIZE: 43381170
BYTE_COUNT: 5670
