FILENAME: O4510925.NWS.1145768.tif
QUADRANGLE_NAME: SLIDEROCK MOUNTAIN
QUADRANT: NW
WEST_LONGITUDE: -110 0 0.00000
EAST_LONGITUDE: -109 56 15.00000
NORTH_LATITUDE: 45 37 30.00000
SOUTH_LATITUDE: 45 33 45.00000
PRODUCTION_DATE: 2001 03 29
RASTER_ORDER: LEFT_RIGHT/TOP_BOTTOM
BAND_ORGANIZATION: SINGLE FILE
BAND_CONTENT: BLACK&WHITE
BAND_CONTENT: UNDEFINED
BAND_CONTENT: UNDEFINED
BITS_PER_PIXEL: 8
SAMPLES_AND_LINES: 5640 7650
HORIZONTAL_DATUM: NAD83
HORIZONTAL_COORDINATE_SYSTEM: UTM
COORDINATE_ZONE: 12
HORIZONTAL_UNITS: METERS
HORIZONTAL_RESOLUTION: 1.00000
SECONDARY_HORIZONTAL_DATUM: NAD27
XY_ORIGIN: 577590.00000 5053260.00000
SECONDARY_XY_ORIGIN: 577649.99800 5053050.04900
NATION: US
STATE: MT
NW_QUAD_CORNER_XY: 577953.65800 5052870.06300
NE_QUAD_CORNER_XY: 582825.75100 5052932.74900
SE_QUAD_CORNERY_XY: 582917.75000 5045989.09000
SW_QUAD_CORNER_XY: 578040.24500 5045926.40000
SECONDARY_NW_QUAD_XY: 577955.99100 5052652.37300
SECONDARY_NE_QUAD_XY: 582828.22900 5052715.06200
SECONDARY_SE_QUAD_XY: 582920.22800 5045771.44900
SECONDARY_SW_QUAD_XY: 578042.57700 5045708.75800
RMSE_XY: 3.73000
IMAGE_SOURCE: BLACK AND WHITE FILM
SOURCE_IMAGE_ID: NAPP 11012 106
SOURCE_IMAGE_DATE: 1998 08 25
SOURCE_IMAGE_ID: NAPP 11012 108
SOURCE_IMAGE_DATE: 1998 08 25
SOURCE_IMAGE_ID: NAPP 9154 155
SOURCE_IMAGE_DATE: 1997 08 28
SOURCE_IMAGE_ID: NAPP 11012 103
SOURCE_IMAGE_DATE: 1998 08 25
SOURCE_DEM_DATE: 1992 00 00
AGENCY: WESTERN MAPPING CENTER (WMC)
PRODUCER: ANALYTICAL SURVEYS INC.
PRODUCTION_SYSTEM: ORBIT OR_RECTIFY V.5.2
COMPRESSION: UNDEFINED
STANDARD_VERSION: 1996 12
METADATA_DATE: 2001 04 04
DATA_FILE_SIZE: 43151640
BYTE_COUNT: 5640
