FILENAME: O4510924.NES.1123059.tif
QUADRANGLE_NAME: HORSE BUTTE
QUADRANT: NE
WEST_LONGITUDE: -109 3 45.00000
EAST_LONGITUDE: -109 0 0.00000
NORTH_LATITUDE: 45 45 0.00000
SOUTH_LATITUDE: 45 41 15.00000
PRODUCTION_DATE: 2000 11 30
RASTER_ORDER: LEFT_RIGHT/TOP_BOTTOM
BAND_ORGANIZATION: SINGLE FILE
BAND_CONTENT: BLACK&WHITE
BAND_CONTENT: UNDEFINED
BAND_CONTENT: UNDEFINED
BITS_PER_PIXEL: 8
SAMPLES_AND_LINES: 5700 7710
HORIZONTAL_DATUM: NAD83
HORIZONTAL_COORDINATE_SYSTEM: UTM
COORDINATE_ZONE: 12
HORIZONTAL_UNITS: METERS
HORIZONTAL_RESOLUTION: 1.00000
SECONDARY_HORIZONTAL_DATUM: NAD27
XY_ORIGIN: 650340.00000 5068530.00000
SECONDARY_XY_ORIGIN: 650399.72400 5068319.97400
NATION: US
STATE: MT
NW_QUAD_CORNER_XY: 650698.62600 5068096.86600
NE_QUAD_CORNER_XY: 655559.82300 5068216.56200
SE_QUAD_CORNERY_XY: 655733.42000 5061272.82700
SW_QUAD_CORNER_XY: 650866.79400 5061153.12500
SECONDARY_NW_QUAD_XY: 650703.14700 5067879.12400
SECONDARY_NE_QUAD_XY: 655564.49100 5067998.82400
SECONDARY_SE_QUAD_XY: 655738.08700 5061055.13500
SECONDARY_SW_QUAD_XY: 650871.31500 5060935.42900
RMSE_XY: 1.52000
IMAGE_SOURCE: BLACK AND WHITE FILM
SOURCE_IMAGE_ID: NAPP 9129 100
SOURCE_IMAGE_DATE: 1996 07 27
SOURCE_IMAGE_ID: NAPP 9129 102
SOURCE_IMAGE_DATE: 1996 07 27
SOURCE_DEM_DATE: 1956 00 00
AGENCY: WESTERN MAPPING CENTER (WMC)
PRODUCER: ANALYTICAL SURVEYS INC.
PRODUCTION_SYSTEM: ORBIT OR_RECTIFY V.5.2
COMPRESSION: UNDEFINED
STANDARD_VERSION: 1996 12
METADATA_DATE: 2000 12 09
DATA_FILE_SIZE: 43952700
BYTE_COUNT: 5700
