FILENAME: O4510924.NWS.1123060.tif
QUADRANGLE_NAME: HORSE BUTTE
QUADRANT: NW
WEST_LONGITUDE: -109 7 30.00000
EAST_LONGITUDE: -109 3 45.00000
NORTH_LATITUDE: 45 45 0.00000
SOUTH_LATITUDE: 45 41 15.00000
PRODUCTION_DATE: 2000 11 30
RASTER_ORDER: LEFT_RIGHT/TOP_BOTTOM
BAND_ORGANIZATION: SINGLE FILE
BAND_CONTENT: BLACK&WHITE
BAND_CONTENT: UNDEFINED
BAND_CONTENT: UNDEFINED
BITS_PER_PIXEL: 8
SAMPLES_AND_LINES: 5700 7710
HORIZONTAL_DATUM: NAD83
HORIZONTAL_COORDINATE_SYSTEM: UTM
COORDINATE_ZONE: 12
HORIZONTAL_UNITS: METERS
HORIZONTAL_RESOLUTION: 1.00000
SECONDARY_HORIZONTAL_DATUM: NAD27
XY_ORIGIN: 645480.00000 5068410.00000
SECONDARY_XY_ORIGIN: 645539.73500 5068200.10100
NATION: US
STATE: MT
NW_QUAD_CORNER_XY: 645837.42400 5067980.97300
NE_QUAD_CORNER_XY: 650698.62600 5068096.86600
SE_QUAD_CORNERY_XY: 650866.79400 5061153.12500
SW_QUAD_CORNER_XY: 646000.16300 5061037.22600
SECONDARY_NW_QUAD_XY: 645841.80000 5067763.22700
SECONDARY_NE_QUAD_XY: 650703.14700 5067879.12400
SECONDARY_SE_QUAD_XY: 650871.31500 5060935.42900
SECONDARY_SW_QUAD_XY: 646004.53800 5060819.52600
RMSE_XY: 1.29000
IMAGE_SOURCE: BLACK AND WHITE FILM
SOURCE_IMAGE_ID: NAPP 9129 138
SOURCE_IMAGE_DATE: 1996 07 27
SOURCE_DEM_DATE: 1956 00 00
AGENCY: WESTERN MAPPING CENTER (WMC)
PRODUCER: ANALYTICAL SURVEYS INC.
PRODUCTION_SYSTEM: ORBIT OR_RECTIFY V.5.2
COMPRESSION: UNDEFINED
STANDARD_VERSION: 1996 12
METADATA_DATE: 2000 12 09
DATA_FILE_SIZE: 43952700
BYTE_COUNT: 5700
