FILENAME: O4510922.SES.1123053.tif
QUADRANGLE_NAME: COLUMBUS WEST
QUADRANT: SE
WEST_LONGITUDE: -109 18 45.00000
EAST_LONGITUDE: -109 15 0.00000
NORTH_LATITUDE: 45 41 15.00000
SOUTH_LATITUDE: 45 37 30.00000
PRODUCTION_DATE: 2000 11 30
RASTER_ORDER: LEFT_RIGHT/TOP_BOTTOM
BAND_ORGANIZATION: SINGLE FILE
BAND_CONTENT: BLACK&WHITE
BAND_CONTENT: UNDEFINED
BAND_CONTENT: UNDEFINED
BITS_PER_PIXEL: 8
SAMPLES_AND_LINES: 5700 7680
HORIZONTAL_DATUM: NAD83
HORIZONTAL_COORDINATE_SYSTEM: UTM
COORDINATE_ZONE: 12
HORIZONTAL_UNITS: METERS
HORIZONTAL_RESOLUTION: 1.00000
SECONDARY_HORIZONTAL_DATUM: NAD27
XY_ORIGIN: 631020.00000 5061120.00000
SECONDARY_XY_ORIGIN: 631079.84200 5060910.18700
NATION: US
STATE: MT
NW_QUAD_CORNER_XY: 631400.24800 5060712.34200
NE_QUAD_CORNER_XY: 636266.89000 5060816.83500
SE_QUAD_CORNERY_XY: 636418.61100 5053873.14500
SW_QUAD_CORNER_XY: 631546.54700 5053768.64800
SECONDARY_NW_QUAD_XY: 631404.18500 5060494.63300
SECONDARY_NE_QUAD_XY: 636270.97300 5060599.12800
SECONDARY_SE_QUAD_XY: 636422.69300 5053655.48600
SECONDARY_SW_QUAD_XY: 631550.48300 5053550.98500
RMSE_XY: 2.13000
IMAGE_SOURCE: BLACK AND WHITE FILM
SOURCE_IMAGE_ID: NAPP 9136 82
SOURCE_IMAGE_DATE: 1996 09 10
SOURCE_IMAGE_ID: NAPP 9153 12
SOURCE_IMAGE_DATE: 1997 08 28
SOURCE_IMAGE_ID: NAPP 9149 30
SOURCE_IMAGE_DATE: 1996 09 02
SOURCE_DEM_DATE: 1956 00 00
AGENCY: WESTERN MAPPING CENTER (WMC)
PRODUCER: ANALYTICAL SURVEYS INC.
PRODUCTION_SYSTEM: ORBIT OR_RECTIFY V.5.2
COMPRESSION: UNDEFINED
STANDARD_VERSION: 1996 12
METADATA_DATE: 2000 12 09
DATA_FILE_SIZE: 43781700
BYTE_COUNT: 5700
