FILENAME: O4510921.SES.1123001.tif
QUADRANGLE_NAME: SPRINGTIME
QUADRANT: SE
WEST_LONGITUDE: -109 26 15.00000
EAST_LONGITUDE: -109 22 30.00000
NORTH_LATITUDE: 45 41 15.00000
SOUTH_LATITUDE: 45 37 30.00000
PRODUCTION_DATE: 2000 11 22
RASTER_ORDER: LEFT_RIGHT/TOP_BOTTOM
BAND_ORGANIZATION: SINGLE FILE
BAND_CONTENT: BLACK&WHITE
BAND_CONTENT: UNDEFINED
BAND_CONTENT: UNDEFINED
BITS_PER_PIXEL: 8
SAMPLES_AND_LINES: 5700 7680
HORIZONTAL_DATUM: NAD83
HORIZONTAL_COORDINATE_SYSTEM: UTM
COORDINATE_ZONE: 12
HORIZONTAL_UNITS: METERS
HORIZONTAL_RESOLUTION: 1.00000
SECONDARY_HORIZONTAL_DATUM: NAD27
XY_ORIGIN: 621300.00000 5060940.00000
SECONDARY_XY_ORIGIN: 621359.97200 5060730.09900
NATION: US
STATE: MT
NW_QUAD_CORNER_XY: 621666.95300 5060514.76300
NE_QUAD_CORNER_XY: 626533.60200 5060611.65200
SE_QUAD_CORNERY_XY: 626674.48000 5053667.95300
SW_QUAD_CORNER_XY: 621802.41000 5053571.05900
SECONDARY_NW_QUAD_XY: 621670.59900 5060297.04800
SECONDARY_NE_QUAD_XY: 626537.39400 5060393.93900
SECONDARY_SE_QUAD_XY: 626678.27000 5053450.28700
SECONDARY_SW_QUAD_XY: 621806.05400 5053353.39100
RMSE_XY: 2.67000
IMAGE_SOURCE: BLACK AND WHITE FILM
SOURCE_IMAGE_ID: NAPP 9136 109
SOURCE_IMAGE_DATE: 1996 09 10
SOURCE_DEM_DATE: 1955 00 00
AGENCY: WESTERN MAPPING CENTER (WMC)
PRODUCER: ANALYTICAL SURVEYS INC.
PRODUCTION_SYSTEM: ORBIT OR_RECTIFY V.5.2
COMPRESSION: UNDEFINED
STANDARD_VERSION: 1996 12
METADATA_DATE: 2000 11 23
DATA_FILE_SIZE: 43781700
BYTE_COUNT: 5700
