FILENAME: O4510919.NES.1122991.tif
QUADRANGLE_NAME: WORK CREEK
QUADRANT: NE
WEST_LONGITUDE: -109 41 15.00000
EAST_LONGITUDE: -109 37 30.00000
NORTH_LATITUDE: 45 45 0.00000
SOUTH_LATITUDE: 45 41 15.00000
PRODUCTION_DATE: 2000 11 22
RASTER_ORDER: LEFT_RIGHT/TOP_BOTTOM
BAND_ORGANIZATION: SINGLE FILE
BAND_CONTENT: BLACK&WHITE
BAND_CONTENT: UNDEFINED
BAND_CONTENT: UNDEFINED
BITS_PER_PIXEL: 8
SAMPLES_AND_LINES: 5670 7680
HORIZONTAL_DATUM: NAD83
HORIZONTAL_COORDINATE_SYSTEM: UTM
COORDINATE_ZONE: 12
HORIZONTAL_UNITS: METERS
HORIZONTAL_RESOLUTION: 1.00000
SECONDARY_HORIZONTAL_DATUM: NAD27
XY_ORIGIN: 601710.00000 5067510.00000
SECONDARY_XY_ORIGIN: 601770.27300 5067300.12600
NATION: US
STATE: MT
NW_QUAD_CORNER_XY: 602086.42700 5067109.01100
NE_QUAD_CORNER_XY: 606947.66300 5067190.69100
SE_QUAD_CORNERY_XY: 607066.98600 5060246.90300
SW_QUAD_CORNER_XY: 602200.32500 5060165.21800
SECONDARY_NW_QUAD_XY: 602089.49000 5066891.23900
SECONDARY_NE_QUAD_XY: 606950.87200 5066972.92200
SECONDARY_SE_QUAD_XY: 607070.19500 5060029.18000
SECONDARY_SW_QUAD_XY: 602203.38700 5059947.49300
RMSE_XY: 2.60000
IMAGE_SOURCE: BLACK AND WHITE FILM
SOURCE_IMAGE_ID: NAPP 9160 137
SOURCE_IMAGE_DATE: 1997 09 23
SOURCE_IMAGE_ID: NAPP 9160 135
SOURCE_IMAGE_DATE: 1997 09 23
SOURCE_IMAGE_ID: NAPP 9150 55
SOURCE_IMAGE_DATE: 1996 09 11
SOURCE_IMAGE_ID: NAPP 9160 139
SOURCE_IMAGE_DATE: 1997 09 23
SOURCE_DEM_DATE: 1981 00 00
AGENCY: WESTERN MAPPING CENTER (WMC)
PRODUCER: ANALYTICAL SURVEYS INC.
PRODUCTION_SYSTEM: ORBIT OR_RECTIFY V.5.2
COMPRESSION: UNDEFINED
STANDARD_VERSION: 1996 12
METADATA_DATE: 2000 11 23
DATA_FILE_SIZE: 43551270
BYTE_COUNT: 5670
