FILENAME: O4510919.SWS.1122994.tif
QUADRANGLE_NAME: WORK CREEK
QUADRANT: SW
WEST_LONGITUDE: -109 45 0.00000
EAST_LONGITUDE: -109 41 15.00000
NORTH_LATITUDE: 45 41 15.00000
SOUTH_LATITUDE: 45 37 30.00000
PRODUCTION_DATE: 2000 11 22
RASTER_ORDER: LEFT_RIGHT/TOP_BOTTOM
BAND_ORGANIZATION: SINGLE FILE
BAND_CONTENT: BLACK&WHITE
BAND_CONTENT: UNDEFINED
BAND_CONTENT: UNDEFINED
BITS_PER_PIXEL: 8
SAMPLES_AND_LINES: 5670 7680
HORIZONTAL_DATUM: NAD83
HORIZONTAL_COORDINATE_SYSTEM: UTM
COORDINATE_ZONE: 12
HORIZONTAL_UNITS: METERS
HORIZONTAL_RESOLUTION: 1.00000
SECONDARY_HORIZONTAL_DATUM: NAD27
XY_ORIGIN: 596970.00000 5060490.00000
SECONDARY_XY_ORIGIN: 597030.22100 5060280.02600
NATION: US
STATE: MT
NW_QUAD_CORNER_XY: 597333.66100 5060087.33400
NE_QUAD_CORNER_XY: 602200.32500 5060165.21800
SE_QUAD_CORNERY_XY: 602314.10000 5053221.49800
SW_QUAD_CORNER_XY: 597442.01600 5053143.61000
SECONDARY_NW_QUAD_XY: 597336.57700 5059869.60600
SECONDARY_NE_QUAD_XY: 602203.38700 5059947.49300
SECONDARY_SE_QUAD_XY: 602317.16200 5053003.81900
SECONDARY_SW_QUAD_XY: 597444.93200 5052925.92900
RMSE_XY: 2.26000
IMAGE_SOURCE: BLACK AND WHITE FILM
SOURCE_IMAGE_ID: NAPP 9154 52
SOURCE_IMAGE_DATE: 1997 08 28
SOURCE_IMAGE_ID: NAPP 9154 54
SOURCE_IMAGE_DATE: 1997 08 28
SOURCE_DEM_DATE: 1981 00 00
AGENCY: WESTERN MAPPING CENTER (WMC)
PRODUCER: ANALYTICAL SURVEYS INC.
PRODUCTION_SYSTEM: ORBIT OR_RECTIFY V.5.2
COMPRESSION: UNDEFINED
STANDARD_VERSION: 1996 12
METADATA_DATE: 2000 11 23
DATA_FILE_SIZE: 43551270
BYTE_COUNT: 5670
