FILENAME: O4510917.SWS.1145728.tif
QUADRANGLE_NAME: ROSS CANYON
QUADRANT: SW
WEST_LONGITUDE: -110 0 0.00000
EAST_LONGITUDE: -109 56 15.00000
NORTH_LATITUDE: 45 41 15.00000
SOUTH_LATITUDE: 45 37 30.00000
PRODUCTION_DATE: 2001 03 28
RASTER_ORDER: LEFT_RIGHT/TOP_BOTTOM
BAND_ORGANIZATION: SINGLE FILE
BAND_CONTENT: BLACK&WHITE
BAND_CONTENT: UNDEFINED
BAND_CONTENT: UNDEFINED
BITS_PER_PIXEL: 8
SAMPLES_AND_LINES: 5640 7650
HORIZONTAL_DATUM: NAD83
HORIZONTAL_COORDINATE_SYSTEM: UTM
COORDINATE_ZONE: 12
HORIZONTAL_UNITS: METERS
HORIZONTAL_RESOLUTION: 1.00000
SECONDARY_HORIZONTAL_DATUM: NAD27
XY_ORIGIN: 577500.00000 5060190.00000
SECONDARY_XY_ORIGIN: 577560.01600 5059980.03000
NATION: US
STATE: MT
NW_QUAD_CORNER_XY: 577866.97900 5059813.79900
NE_QUAD_CORNER_XY: 582733.65300 5059876.48300
SE_QUAD_CORNERY_XY: 582825.75100 5052932.74900
SW_QUAD_CORNER_XY: 577953.65800 5052870.06300
SECONDARY_NW_QUAD_XY: 577869.31200 5059596.06300
SECONDARY_NE_QUAD_XY: 582736.13100 5059658.74900
SECONDARY_SE_QUAD_XY: 582828.22900 5052715.06200
SECONDARY_SW_QUAD_XY: 577955.99100 5052652.37300
RMSE_XY: 3.06000
IMAGE_SOURCE: BLACK AND WHITE FILM
SOURCE_IMAGE_ID: NAPP 9154 155
SOURCE_IMAGE_DATE: 1997 08 28
SOURCE_IMAGE_ID: NAPP 9154 153
SOURCE_IMAGE_DATE: 1997 08 28
SOURCE_IMAGE_ID: NAPP 9150 288
SOURCE_IMAGE_DATE: 1996 09 11
SOURCE_DEM_DATE: 1993 00 00
AGENCY: WESTERN MAPPING CENTER (WMC)
PRODUCER: ANALYTICAL SURVEYS INC.
PRODUCTION_SYSTEM: ORBIT OR_RECTIFY V.5.2
COMPRESSION: UNDEFINED
STANDARD_VERSION: 1996 12
METADATA_DATE: 2001 03 29
DATA_FILE_SIZE: 43151640
BYTE_COUNT: 5640
