FILENAME: O4510916.NES.1123035.tif
QUADRANGLE_NAME: HUNTER LAKE
QUADRANT: NE
WEST_LONGITUDE: -109 3 45.00000
EAST_LONGITUDE: -109 0 0.00000
NORTH_LATITUDE: 45 52 30.00000
SOUTH_LATITUDE: 45 48 45.00000
PRODUCTION_DATE: 2000 11 30
RASTER_ORDER: LEFT_RIGHT/TOP_BOTTOM
BAND_ORGANIZATION: SINGLE FILE
BAND_CONTENT: BLACK&WHITE
BAND_CONTENT: UNDEFINED
BAND_CONTENT: UNDEFINED
BITS_PER_PIXEL: 8
SAMPLES_AND_LINES: 5730 7710
HORIZONTAL_DATUM: NAD83
HORIZONTAL_COORDINATE_SYSTEM: UTM
COORDINATE_ZONE: 12
HORIZONTAL_UNITS: METERS
HORIZONTAL_RESOLUTION: 1.00000
SECONDARY_HORIZONTAL_DATUM: NAD27
XY_ORIGIN: 649980.00000 5082420.00000
SECONDARY_XY_ORIGIN: 650039.80500 5082209.57400
NATION: US
STATE: MT
NW_QUAD_CORNER_XY: 650361.74800 5081984.55100
NE_QUAD_CORNER_XY: 655212.07000 5082104.23200
SE_QUAD_CORNERY_XY: 655386.04000 5075160.36400
SW_QUAD_CORNER_XY: 650530.27700 5075040.67500
SECONDARY_NW_QUAD_XY: 650366.27200 5081766.72000
SECONDARY_NE_QUAD_XY: 655216.74000 5081886.40500
SECONDARY_SE_QUAD_XY: 655390.70800 5074942.58000
SECONDARY_SW_QUAD_XY: 650534.80000 5074822.88800
RMSE_XY: 3.00000
IMAGE_SOURCE: BLACK AND WHITE FILM
SOURCE_IMAGE_ID: NAPP 9129 96
SOURCE_IMAGE_DATE: 1996 07 27
SOURCE_DEM_DATE: 1956 00 00
AGENCY: WESTERN MAPPING CENTER (WMC)
PRODUCER: ANALYTICAL SURVEYS INC.
PRODUCTION_SYSTEM: ORBIT OR_RECTIFY V.5.2
COMPRESSION: UNDEFINED
STANDARD_VERSION: 1996 12
METADATA_DATE: 2000 11 30
DATA_FILE_SIZE: 44184030
BYTE_COUNT: 5730
