FILENAME: O4510916.SES.1123037.tif
QUADRANGLE_NAME: HUNTER LAKE
QUADRANT: SE
WEST_LONGITUDE: -109 3 45.00000
EAST_LONGITUDE: -109 0 0.00000
NORTH_LATITUDE: 45 48 45.00000
SOUTH_LATITUDE: 45 45 0.00000
PRODUCTION_DATE: 2000 11 30
RASTER_ORDER: LEFT_RIGHT/TOP_BOTTOM
BAND_ORGANIZATION: SINGLE FILE
BAND_CONTENT: BLACK&WHITE
BAND_CONTENT: UNDEFINED
BAND_CONTENT: UNDEFINED
BITS_PER_PIXEL: 8
SAMPLES_AND_LINES: 5700 7710
HORIZONTAL_DATUM: NAD83
HORIZONTAL_COORDINATE_SYSTEM: UTM
COORDINATE_ZONE: 12
HORIZONTAL_UNITS: METERS
HORIZONTAL_RESOLUTION: 1.00000
SECONDARY_HORIZONTAL_DATUM: NAD27
XY_ORIGIN: 650160.00000 5075490.00000
SECONDARY_XY_ORIGIN: 650219.76300 5075279.77400
NATION: US
STATE: MT
NW_QUAD_CORNER_XY: 650530.27700 5075040.67500
NE_QUAD_CORNER_XY: 655386.04000 5075160.36400
SE_QUAD_CORNERY_XY: 655559.82300 5068216.56200
SW_QUAD_CORNER_XY: 650698.62600 5068096.86600
SECONDARY_NW_QUAD_XY: 650534.80000 5074822.88800
SECONDARY_NE_QUAD_XY: 655390.70800 5074942.58000
SECONDARY_SE_QUAD_XY: 655564.49100 5067998.82400
SECONDARY_SW_QUAD_XY: 650703.14700 5067879.12400
RMSE_XY: 1.12000
IMAGE_SOURCE: BLACK AND WHITE FILM
SOURCE_IMAGE_ID: NAPP 9129 98
SOURCE_IMAGE_DATE: 1996 07 27
SOURCE_DEM_DATE: 1956 00 00
AGENCY: WESTERN MAPPING CENTER (WMC)
PRODUCER: ANALYTICAL SURVEYS INC.
PRODUCTION_SYSTEM: ORBIT OR_RECTIFY V.5.2
COMPRESSION: UNDEFINED
STANDARD_VERSION: 1996 12
METADATA_DATE: 2000 11 30
DATA_FILE_SIZE: 43952700
BYTE_COUNT: 5700
