FILENAME: O4510911.SES.1115321.tif
QUADRANGLE_NAME: LONE INDIAN BUTTE
QUADRANT: SE
WEST_LONGITUDE: -109 41 15.00000
EAST_LONGITUDE: -109 37 30.00000
NORTH_LATITUDE: 45 48 45.00000
SOUTH_LATITUDE: 45 45 0.00000
PRODUCTION_DATE: 2000 11 21
RASTER_ORDER: LEFT_RIGHT/TOP_BOTTOM
BAND_ORGANIZATION: SINGLE FILE
BAND_CONTENT: BLACK&WHITE
BAND_CONTENT: UNDEFINED
BAND_CONTENT: UNDEFINED
BITS_PER_PIXEL: 8
SAMPLES_AND_LINES: 5670 7650
HORIZONTAL_DATUM: NAD83
HORIZONTAL_COORDINATE_SYSTEM: UTM
COORDINATE_ZONE: 12
HORIZONTAL_UNITS: METERS
HORIZONTAL_RESOLUTION: 1.00000
SECONDARY_HORIZONTAL_DATUM: NAD27
XY_ORIGIN: 601590.00000 5074440.00000
SECONDARY_XY_ORIGIN: 601650.21900 5074229.80400
NATION: US
STATE: MT
NW_QUAD_CORNER_XY: 601972.40700 5074052.87500
NE_QUAD_CORNER_XY: 606828.21200 5074134.55100
SE_QUAD_CORNERY_XY: 606947.66300 5067190.69100
SW_QUAD_CORNER_XY: 602086.42700 5067109.01100
SECONDARY_NW_QUAD_XY: 601975.47100 5073835.05900
SECONDARY_NE_QUAD_XY: 606831.42100 5073916.73700
SECONDARY_SE_QUAD_XY: 606950.87200 5066972.92200
SECONDARY_SW_QUAD_XY: 602089.49000 5066891.23900
RMSE_XY: 1.69000
IMAGE_SOURCE: BLACK AND WHITE FILM
SOURCE_IMAGE_ID: NAPP 9160 135
SOURCE_IMAGE_DATE: 1997 09 23
SOURCE_IMAGE_ID: NAPP 9160 133
SOURCE_IMAGE_DATE: 1997 09 23
SOURCE_IMAGE_ID: NAPP 9154 56
SOURCE_IMAGE_DATE: 1997 08 28
SOURCE_DEM_DATE: 1981 00 00
AGENCY: WESTERN MAPPING CENTER (WMC)
PRODUCER: ANALYTICAL SURVEYS INC.
PRODUCTION_SYSTEM: ORBIT OR_RECTIFY V.5.2
COMPRESSION: UNDEFINED
STANDARD_VERSION: 1996 12
METADATA_DATE: 2000 11 30
DATA_FILE_SIZE: 43381170
BYTE_COUNT: 5670
